Workbook
Name 【記載例】シフト記号: '【記載例】シフト記号表（勤務時間帯）'!$C$6:$C$47
Name 【記載例】シフト記号表: '【記載例】シフト記号表（勤務時間帯）'!$C$6:$C$47
Name シフト記号表: シフト記号表!$C$6:$C$47
Name シフト記号表: シフト記号表!$C$6:$C$47
Name 介護職員: プルダウン・リスト!$F$22:$F$31
Name 看護職員: プルダウン・リスト!$E$22:$E$31
Name 管理者: プルダウン・リスト!$C$22:$C$31
Name 機能訓練指導員: プルダウン・リスト!$G$22:$G$31
Name 計画作成担当者: プルダウン・リスト!$H$22:$H$31
Name 職種: [1]プルダウン・リスト!$C$14:$L$14
Name 職種１: プルダウン・リスト!$C$21:$L$21
Name 生活相談員: プルダウン・リスト!$D$22:$D$31

Sheet 特定施設入居者生活介護
A1: 提出書類チェックシート（特定施設入居者生活介護）
F3: 法人名
F4: 施設名
F5: 担当者名
F6: 電話番号
F7: E-mail
F8: 指導実施日
A10: 資料名 | F10: 提出数 | I10: チェック
A11: ①自己点検シート | F11: 事業ごとに１部
A12: ②従業員の勤務の体制及び勤務形態一覧表 | F12: 事業ごとに１部
A13: ③運営規程及び重要事項説明書、利用者契約書（見本） | F13: 事業ごとに１部
A14: ④利用者の状況 | F14: 事業ごとに１部
A15: ⑤行動障害のある利用者及び身体拘束者名簿 | F15: 事業ごとに１部
A21: ＊提出書類チェックシートの送付先
A22: 〒305-8555
A23: つくば市研究学園一丁目１番地１
A24: つくば市福祉部福祉政策課
A25: 指導監査係
A26: TEL029-883-1111
A27: wef013@city.tsukuba.lg.jp

Sheet ①自己点検シート
A1: 自己点検シート（特定施設入居者生活介護・介護予防特定施設入居者生活介護）
A12: 点検項目 | C12: 確認事項 | D12: 根拠条文 | E12: 確認書類等 | F12: 点検結果
F13: 適 | G13: 不適 | H13: 該当なし
A14: 1 | B14: 指定居宅サービスの事業の一般原則 | C14: 利用者の意思及び人格を尊重し、常に利用者の立場に立ってサービスを提供するように努めていますか。 | D14: 基準第3条第1項 予防基準第3条第1項 | F14: □ | G14: □
C15: 事業を運営するに当たっては、地域との結び付きを重視し、つくば市、地域包括支援センター、他の居宅サービス事業者（介護予防サービス事業者）その他の保健医療サービス及び福祉サービスを提供する者との連携に努めていますか。 | D15: 基準第3条第2項 予防基準第3条第2項 | F15: □ | G15: □
C16: 利用者の人権の擁護、虐待の防止等のため、必要な体制の整備を行うとともに、その従業者に対し、研修を実施する等の措置を講じていますか。 （令和６年４月１日から義務化） | D16: 基準第3条 第3項 予防基準 第3条第3項 | F16: □ | G16: □
C17: 指定居宅サービスを提供するに当たっては、法第118条の2第1項に規定する介護保険等関連情報その他必要な情報を活用し、適切かつ有効に行うよう努めていますか。 | D17: 基準第3条 第4項 予防基準 第3条第4項 | F17: □ | G17: □
A18: Ⅰ 基本方針
A19: 1 | B19: 基本方針 | C19: 特定施設サービス計画に基づき、入浴、排せつ、食事等の介護その他の日常生活上の世話、機能訓練及び療養上の世話を行うことにより、要介護状態となった場合でも、利用者が当該指定特定施設においてその有する能力に応じ自立した日常生活を営むことができるようにするものとなっていますか。 | D19: 基準第174条 | E19: ・運営規程 | F19: □ | G19: □
A20: 2 | B20: 介護予防 基本方針 | C20: 介護予防特定施設サービス計画に基づき、入浴、排せつ、食事等の介護その他の日常生活上の支援、機能訓練及び療養上の世話を行うことにより、利用者が当該指定介護予防特定施設において、自立した日常生活を営むことができるよう、利用者の心身機能の維持回復を図り、もって利用者の生活機能の維持又は向上を目指すものとなっていますか。 | D20: 予防基準第230条 | E20: ・運営規程 | F20: □ | G20: □
A21: 3 | B21: 基本方針 | C21: 安定的かつ継続的な事業運営に努めていますか。 | D21: 基準 第174条第2項 予防基準 第230条第2項 | F21: □ | G21: □
A22: Ⅱ 人員基準
A23: 1 | B23: 特定施設入居者生活介護従業者の員数 | C23: （1）利用者に対し、従業者の員数は適切であるか
C24: （2）必要な専門職が揃っているか
C25: （3）専門職は必要な資格を有しているか
C26: 指定特定施設入居者生活介護事業所ごとに置くべき従業者の職種及び員数が次のとおりとなっていますか。 | D26: 基準 第175条第1項 予防基準 第231条第1項 | F26: □ | G26: □
A27: 2 | B27: 利用者の数の算定方法 | C27: 【前年度の平均値】 ＊前年度とは毎年4月1日から翌年3月31日をもって終わる年度 ＊計算式 ：前年度の全利用者等の延数 ÷ 前年度の日数 (小数点第2位以下を切り上げ) →以下に記載してください。 前年度の全利用者等の延数（ ）人 ÷ 前年度の日数（ ）日 ≒（ ）人
A28: 3 | B28: 生活相談員 | C28: 常勤換算方法で、総利用者数【前年度の平均値】が１００又はその端数を増すごとに１人以上となっていますか。 ※総利用者数：特定施設入居者生活介護の利用者と介護予防特定施設入居者生活介護の利用者の合計数 | D28: 基準 第175条第1項第1号 予防基準 第231条第2項第1号 | E28: ・勤務実績表/タイムカード ・勤務体制一覧表 | F28: □ | G28: □
C29: １人以上は常勤ですか。 | D29: 基準 第175条第4項 予防基準 第231条第4項 | F29: □ | G29: □
A30: 4 | B30: 看護職員 又は 介護職員 | C30: 看護師若しくは准看護師（以下、「看護職員」という。）又は介護職員の合計数は、常勤換算方法で、利用者の数が３又はその端数を増すごとに１以上となっていますか。（常勤換算方法で ３：１） ※利用者数は、要介護者の利用者の数に、介護予防サービスの利用者の数に０．３を乗じて得た数を合計した利用者数【前年度の平均値】 | D30: 基準 第175条第1項第2号イ 予防基準 第231条第1項第2号イ | E30: ・勤務実績表/タイムカード ・勤務体制一覧表 ・従業者の資格証 | F30: □ | G30: □
C31: →以下に記載してください。 ①前年度の要介護者利用者延数（ ）人 ②前年度の介護予防サービス利用者延数（ ）人 ③前年度の日数（ ）日 （ ①÷③ ）＋（ ②÷③×0.3 ) ＝（ ）人 ※小数点第2位以下切り上げ
C32: ※次に掲げる要件のいずれにも適合する場合は、上記「１」とあるのは、「0.9」とする。 | D32: 基準 第175条第9項第1項 予防基準 第231条第9項第1項
C33: 一 利用者の安全並びに介護サービスの質の確保 及び職員の負担軽減に資する方策を検討するた めの委員会において、次に掲げる事項について 必要な検討を行い、当該事項の実施を定期的に 確認していること。
C34: イ 利用者の安全及びケアの質の確保 ロ 特定施設従業者の負担軽減及び勤務状況へ の配慮 ハ 緊急時の体制整備 ニ 業務の効率化、介護サービスの質の向上等 に資する機器（以下「介護機器」という。） の定期的な点検 ホ 特定施設従業者に対する研修
C35: 二 介護機器を複数種類活用していること。 三 利用者の安全並びに介護サービスの質の確保 及び職員の負担軽減を図るため、特定施設従業 者間の適切な役割分担を行っていること。 四 利用者の安全並びに介護サービスの質の確保 及び職員の負担軽減を図る取組による介護サー ビスの質の確保及び職員の負担軽減が行われて いると認められること。 | D35: 基準 第175条第9項 予防基準 第231条第9項
C36: 看護職員の数は次のとおりとなっていますか。 (1)利用者30人まで 常勤換算方法で１ (2)利用者30人超～80人 常勤換算方法で２ (3)利用者80人超～130人 常勤換算方法で３ | D36: 基準 第175条第2項第2号ロ 予防基準 第231条第2項第2号ロ | F36: □ | G36: □
C37: 常に１以上の指定（介護予防）特定施設入居者生活介護の提供に当たる介護職員が確保されていますか。 ただし、介護予防特定施設入居者生活介護のみを提供する場合の宿直時間帯については、この限りではない。 | D37: 基準 第175条第2項第2号ハ 予防基準 第231条第2項第2号ハ | F37: □ | G37: □
C38: 看護職員及び介護職員は、主として（介護予防）特定施設入居者生活介護の提供に当たるものとし、看護職員のうち１人以上、及び介護職員のうち1人以上は、常勤の者となっていますか。 ただし、指定介護予防特定施設入居者生活介護のみを提供する場合は、介護職員及び看護職員のうちいずれか１人が常勤であれば足りる。 ※主として（介護予防）特定施設入居者生活介護の提供に当たる看護職員及び介護職員とは、要介護者及び要支援者に対するサービス提供に従事することを基本とするものである。ただし、要介護者等のサービス利用のないときに、要介護者等以外の当該特定施設の入居者に対するサービス提供を行うことは差し支えない。 | D38: 基準 第175条第8項 予防基準 第231条第8項 解釈通知 1(2) | F38: □ | G38: □
A39: 5 | B39: 機能訓練指導員 | C39: １以上配置していますか。 | D39: 基準 第218条第2項第3号 予防基準 第204条第2項第3号 | E39: ・勤務実績表/タイムカード ・勤務体制一覧表 ・従業者の資格証 | F39: □ | G39: □
C40: 機能訓練指導員は、日常生活を営むのに必要な機能の減退を防止するための訓練を行う能力を有する者（※）を配置していますか。 ※ 理学療法士、作業療法士、言語聴覚士、看護職員（看護師若しくは准看護師）、柔道整復師又はあん摩マッサージ指圧師、はり師又はきゅう師であること。(はり師又はきゅう師については、資格を有する機能訓練指導員を配置した事業所で６月以上機能訓練指導に従事した経験を有する者に限る。) | D40: 基準 第175条第6項 予防基準 第231条第6項 解釈通知 1(3) | F40: □ | G40: □
A41: 6 | B41: 計画作成担当者 | C41: １以上配置していますか。 （利用者【前年度の平均値】の数が１００又はその端数を増すごとに１を標準とする） | D41: 基準 第218条第1項第4号 予防基準 第204条第1項第4号 | E41: ・勤務実績表/タイムカード ・勤務体制一覧表 ・従業者の資格証 | F41: □ | G41: □
C42: 計画作成担当者は、専らその職務に従事する介護支援専門員であって、（介護予防）特定施設サービス計画の作成を担当させるのに適当と認められる者となっていますか。 ※ただし、利用者の処遇に支障がない場合は、当該特定施設における他の職務に従事することができる。 | D42: 基準 第175条第7項 予防基準 第231条第7項 | F42: □ | G42: □
A43: 7 | B43: 管理者 | C43: 管理者は常勤専従か。他の職務を兼務している場合、兼務体制は適切か
C44: 専らその職務に従事する常勤の管理者を配置していますか。 管理者が他の職務等を兼務している場合、業務に支障はないですか。 ただし、事業所の管理上支障がない場合は、当該事業所の他の職務に従事し、又は他の事業所、施設等の職務に従事することができます。 | D44: 基準 176条 予防基準 第232条 | E44: ・管理者の雇用形態が分かる文書 ・管理者の勤務実績表／タイムカード | F44: □ | G44: □
C45: → 下記の事項について記載してください。 ・兼務の有無 （ 有 ・ 無 ） ・当該事業所内で他職務と兼務している場合は その職種名 （ ）
C46: ・同一の事業者によって設置された他の事業所等（※）と兼務している場合は、 事業所名、職種名、兼務事業所における１週間当たりの勤務時間数 ※管理上支障がない場合は、同一敷地でなくても差し支えありません。 | D46: 解釈通知 １の（4）
C47: 事業所名：（ ） 職種名 ：（ ） 勤務時間：（ ）
A48: Ⅲ 設備基準
A49: 1 | B49: 設備及び備品等 | C49: （1）平面図に合致しているか【目視】
C50: （2）使用目的に沿って使われているか【目視】
...

Sheet ②勤務形態一覧表
C1: （標準様式1） | M1: 従業者の勤務の体制及び勤務形態一覧表 | AS1: サービス種別（ | AT1: 特定施設入居者生活介護 | BJ1: ）
AB2: 令和 | AC2: 7 | AE2: ( | AF2: =IF(AC2=0,"",YEAR(DATE(2018+AC2,1,1))) -> 2025 | AH2: ) | AI2: 年 | AJ2: 4 | AL2: 月 | AS2: 事業所名（ | AT2: ○○○○ | BJ2: ）
BD3: (1) | BE3: ４週
BD4: (2) | BE4: 予定
AO6: (3) 事業所における常勤の従業者が勤務すべき時間数 | BA6: 40 | BC6: 時間/週 | BE6: 160 | BG6: 時間/月
BB8: 当月の日数 | BE8: =DAY(EOMONTH(DATE(AF2,AJ2,1),0)) -> 30 | BG8: 日
AS10: (4) 利用者数 | BC10: （前年度の平均値または推定数） | BG10: 人
B12: No | C12: (5) 職種 | I12: (6) 勤務 形態 | K12: (7) 資格 | O12: (8) 氏 名 | W12: (9) | BB12: =IF(BE3="４週","(10)1～4週目の勤務時間数合計","(10)1か月の勤務時間数 合計") -> (10)1～4週目の勤務時間数合計 | BD12: (11) 週平均 勤務時間数 | BF12: (12) 兼務状況 （兼務先/兼務する職務の内容）等
W13: 1週目 | AD13: 2週目 | AK13: 3週目 | AR13: 4週目 | AY13: 5週目
W14: 1 | X14: 2 | Y14: 3 | Z14: 4 | AA14: 5 | AB14: 6 | AC14: 7 | AD14: 8 | AE14: 9 | AF14: 10 | AG14: 11 | AH14: 12 | AI14: 13 | AJ14: 14 | AK14: 15 | AL14: 16 | AM14: 17 | AN14: 18 | AO14: 19 | AP14: 20 | AQ14: 21 | AR14: 22 | AS14: 23 | AT14: 24 | AU14: 25 | AV14: 26 | AW14: 27 | AX14: 28 | AY14: =IF($BE$3="実績",IF(DAY(DATE($AF$2,$AJ$2,29))=29,29,""),"") | AZ14: =IF($BE$3="実績",IF(DAY(DATE($AF$2,$AJ$2,30))=30,30,""),"") | BA14: =IF($BE$3="実績",IF(DAY(DATE($AF$2,$AJ$2,31))=31,31,""),"")
W15: =WEEKDAY(DATE($AF$2,$AJ$2,1)) -> 3 | X15: =WEEKDAY(DATE($AF$2,$AJ$2,2)) -> 4 | Y15: =WEEKDAY(DATE($AF$2,$AJ$2,3)) -> 5 | Z15: =WEEKDAY(DATE($AF$2,$AJ$2,4)) -> 6 | AA15: =WEEKDAY(DATE($AF$2,$AJ$2,5)) -> 7 | AB15: =WEEKDAY(DATE($AF$2,$AJ$2,6)) -> 1 | AC15: =WEEKDAY(DATE($AF$2,$AJ$2,7)) -> 2 | AD15: =WEEKDAY(DATE($AF$2,$AJ$2,8)) -> 3 | AE15: =WEEKDAY(DATE($AF$2,$AJ$2,9)) -> 4 | AF15: =WEEKDAY(DATE($AF$2,$AJ$2,10)) -> 5 | AG15: =WEEKDAY(DATE($AF$2,$AJ$2,11)) -> 6 | AH15: =WEEKDAY(DATE($AF$2,$AJ$2,12)) -> 7 | AI15: =WEEKDAY(DATE($AF$2,$AJ$2,13)) -> 1 | AJ15: =WEEKDAY(DATE($AF$2,$AJ$2,14)) -> 2 | AK15: =WEEKDAY(DATE($AF$2,$AJ$2,15)) -> 3 | AL15: =WEEKDAY(DATE($AF$2,$AJ$2,16)) -> 4 | AM15: =WEEKDAY(DATE($AF$2,$AJ$2,17)) -> 5 | AN15: =WEEKDAY(DATE($AF$2,$AJ$2,18)) -> 6 | AO15: =WEEKDAY(DATE($AF$2,$AJ$2,19)) -> 7 | AP15: =WEEKDAY(DATE($AF$2,$AJ$2,20)) -> 1 | AQ15: =WEEKDAY(DATE($AF$2,$AJ$2,21)) -> 2 | AR15: =WEEKDAY(DATE($AF$2,$AJ$2,22)) -> 3 | AS15: =WEEKDAY(DATE($AF$2,$AJ$2,23)) -> 4 | AT15: =WEEKDAY(DATE($AF$2,$AJ$2,24)) -> 5 | AU15: =WEEKDAY(DATE($AF$2,$AJ$2,25)) -> 6 | AV15: =WEEKDAY(DATE($AF$2,$AJ$2,26)) -> 7 | AW15: =WEEKDAY(DATE($AF$2,$AJ$2,27)) -> 1 | AX15: =WEEKDAY(DATE($AF$2,$AJ$2,28)) -> 2 | AY15: =IF(AY14=29,WEEKDAY(DATE($AF$2,$AJ$2,29)),0) -> 0 | AZ15: =IF(AZ14=30,WEEKDAY(DATE($AF$2,$AJ$2,30)),0) -> 0 | BA15: =IF(BA14=31,WEEKDAY(DATE($AF$2,$AJ$2,31)),0) -> 0
W16: =IF(W15=1,"日",IF(W15=2,"月",IF(W15=3,"火",IF(W15=4,"水",IF(W15=5,"木",IF(W15=6,"金","土")))))) -> 火 | X16: =IF(X15=1,"日",IF(X15=2,"月",IF(X15=3,"火",IF(X15=4,"水",IF(X15=5,"木",IF(X15=6,"金","土")))))) -> 水 | Y16: =IF(Y15=1,"日",IF(Y15=2,"月",IF(Y15=3,"火",IF(Y15=4,"水",IF(Y15=5,"木",IF(Y15=6,"金","土")))))) -> 木 | Z16: =IF(Z15=1,"日",IF(Z15=2,"月",IF(Z15=3,"火",IF(Z15=4,"水",IF(Z15=5,"木",IF(Z15=6,"金","土")))))) -> 金 | AA16: =IF(AA15=1,"日",IF(AA15=2,"月",IF(AA15=3,"火",IF(AA15=4,"水",IF(AA15=5,"木",IF(AA15=6,"金","土")))))) -> 土 | AB16: =IF(AB15=1,"日",IF(AB15=2,"月",IF(AB15=3,"火",IF(AB15=4,"水",IF(AB15=5,"木",IF(AB15=6,"金","土")))))) -> 日 | AC16: =IF(AC15=1,"日",IF(AC15=2,"月",IF(AC15=3,"火",IF(AC15=4,"水",IF(AC15=5,"木",IF(AC15=6,"金","土")))))) -> 月 | AD16: =IF(AD15=1,"日",IF(AD15=2,"月",IF(AD15=3,"火",IF(AD15=4,"水",IF(AD15=5,"木",IF(AD15=6,"金","土")))))) -> 火 | ... AX16: =IF(AX15=1,"日",IF(AX15=2,"月",IF(AX15=3,"火",IF(AX15=4,"水",IF(AX15=5,"木",IF(AX15=6,"金","土")))))) -> 月 | AY16: =IF(AY15=1,"日",IF(AY15=2,"月",IF(AY15=3,"火",IF(AY15=4,"水",IF(AY15=5,"木",IF(AY15=6,"金",IF(AY15=0,"","土"))))))) | AZ16: =IF(AZ15=1,"日",IF(AZ15=2,"月",IF(AZ15=3,"火",IF(AZ15=4,"水",IF(AZ15=5,"木",IF(AZ15=6,"金",IF(AZ15=0,"","土"))))))) | BA16: =IF(BA15=1,"日",IF(BA15=2,"月",IF(BA15=3,"火",IF(BA15=4,"水",IF(BA15=5,"木",IF(BA15=6,"金",IF(BA15=0,"","土")))))))
B17: =B15+1 -> 1 | T17: シフト記号
F18: =C17 -> 0 | H18: =I17 -> 0 | T18: 勤務時間数 | W18: =IF(W17="","",VLOOKUP(W17,シフト記号表!$C$6:$L$47,10,FALSE)) | X18: =IF(X17="","",VLOOKUP(X17,シフト記号表!$C$6:$L$47,10,FALSE)) | Y18: =IF(Y17="","",VLOOKUP(Y17,シフト記号表!$C$6:$L$47,10,FALSE)) | Z18: =IF(Z17="","",VLOOKUP(Z17,シフト記号表!$C$6:$L$47,10,FALSE)) | AA18: =IF(AA17="","",VLOOKUP(AA17,シフト記号表!$C$6:$L$47,10,FALSE)) | AB18: =IF(AB17="","",VLOOKUP(AB17,シフト記号表!$C$6:$L$47,10,FALSE)) | AC18: =IF(AC17="","",VLOOKUP(AC17,シフト記号表!$C$6:$L$47,10,FALSE)) | AD18: =IF(AD17="","",VLOOKUP(AD17,シフト記号表!$C$6:$L$47,10,FALSE)) | ... BA18: =IF(BA17="","",VLOOKUP(BA17,シフト記号表!$C$6:$L$47,10,FALSE)) | BB18: =IF($BE$3="４週",SUM(W18:AX18),IF($BE$3="暦月",SUM(W18:BA18),"")) -> 0 | BD18: =IF($BE$3="４週",BB18/4,IF($BE$3="暦月",(BB18/($BE$8/7)),"")) -> 0
B19: =B17+1 -> 2 | T19: シフト記号
F20: =C19 -> 0 | H20: =I19 -> 0 | T20: 勤務時間数 | W20: =IF(W19="","",VLOOKUP(W19,シフト記号表!$C$6:$L$47,10,FALSE)) | X20: =IF(X19="","",VLOOKUP(X19,シフト記号表!$C$6:$L$47,10,FALSE)) | Y20: =IF(Y19="","",VLOOKUP(Y19,シフト記号表!$C$6:$L$47,10,FALSE)) | Z20: =IF(Z19="","",VLOOKUP(Z19,シフト記号表!$C$6:$L$47,10,FALSE)) | AA20: =IF(AA19="","",VLOOKUP(AA19,シフト記号表!$C$6:$L$47,10,FALSE)) | AB20: =IF(AB19="","",VLOOKUP(AB19,シフト記号表!$C$6:$L$47,10,FALSE)) | AC20: =IF(AC19="","",VLOOKUP(AC19,シフト記号表!$C$6:$L$47,10,FALSE)) | AD20: =IF(AD19="","",VLOOKUP(AD19,シフト記号表!$C$6:$L$47,10,FALSE)) | ... BA20: =IF(BA19="","",VLOOKUP(BA19,シフト記号表!$C$6:$L$47,10,FALSE)) | BB20: =IF($BE$3="４週",SUM(W20:AX20),IF($BE$3="暦月",SUM(W20:BA20),"")) -> 0 | BD20: =IF($BE$3="４週",BB20/4,IF($BE$3="暦月",(BB20/($BE$8/7)),"")) -> 0
B21: =B19+1 -> 3 | T21: シフト記号
F22: =C21 -> 0 | H22: =I21 -> 0 | T22: 勤務時間数 | W22: =IF(W21="","",VLOOKUP(W21,シフト記号表!$C$6:$L$47,10,FALSE)) | X22: =IF(X21="","",VLOOKUP(X21,シフト記号表!$C$6:$L$47,10,FALSE)) | Y22: =IF(Y21="","",VLOOKUP(Y21,シフト記号表!$C$6:$L$47,10,FALSE)) | Z22: =IF(Z21="","",VLOOKUP(Z21,シフト記号表!$C$6:$L$47,10,FALSE)) | AA22: =IF(AA21="","",VLOOKUP(AA21,シフト記号表!$C$6:$L$47,10,FALSE)) | AB22: =IF(AB21="","",VLOOKUP(AB21,シフト記号表!$C$6:$L$47,10,FALSE)) | AC22: =IF(AC21="","",VLOOKUP(AC21,シフト記号表!$C$6:$L$47,10,FALSE)) | AD22: =IF(AD21="","",VLOOKUP(AD21,シフト記号表!$C$6:$L$47,10,FALSE)) | ... BA22: =IF(BA21="","",VLOOKUP(BA21,シフト記号表!$C$6:$L$47,10,FALSE)) | BB22: =IF($BE$3="４週",SUM(W22:AX22),IF($BE$3="暦月",SUM(W22:BA22),"")) -> 0 | BD22: =IF($BE$3="４週",BB22/4,IF($BE$3="暦月",(BB22/($BE$8/7)),"")) -> 0
B23: =B21+1 -> 4 | T23: シフト記号
F24: =C23 -> 0 | H24: =I23 -> 0 | T24: 勤務時間数 | W24: =IF(W23="","",VLOOKUP(W23,シフト記号表!$C$6:$L$47,10,FALSE)) | X24: =IF(X23="","",VLOOKUP(X23,シフト記号表!$C$6:$L$47,10,FALSE)) | Y24: =IF(Y23="","",VLOOKUP(Y23,シフト記号表!$C$6:$L$47,10,FALSE)) | Z24: =IF(Z23="","",VLOOKUP(Z23,シフト記号表!$C$6:$L$47,10,FALSE)) | AA24: =IF(AA23="","",VLOOKUP(AA23,シフト記号表!$C$6:$L$47,10,FALSE)) | AB24: =IF(AB23="","",VLOOKUP(AB23,シフト記号表!$C$6:$L$47,10,FALSE)) | AC24: =IF(AC23="","",VLOOKUP(AC23,シフト記号表!$C$6:$L$47,10,FALSE)) | AD24: =IF(AD23="","",VLOOKUP(AD23,シフト記号表!$C$6:$L$47,10,FALSE)) | ... BA24: =IF(BA23="","",VLOOKUP(BA23,シフト記号表!$C$6:$L$47,10,FALSE)) | BB24: =IF($BE$3="４週",SUM(W24:AX24),IF($BE$3="暦月",SUM(W24:BA24),"")) -> 0 | BD24: =IF($BE$3="４週",BB24/4,IF($BE$3="暦月",(BB24/($BE$8/7)),"")) -> 0
B25: =B23+1 -> 5 | T25: シフト記号
F26: =C25 -> 0 | H26: =I25 -> 0 | T26: 勤務時間数 | W26: =IF(W25="","",VLOOKUP(W25,シフト記号表!$C$6:$L$47,10,FALSE)) | X26: =IF(X25="","",VLOOKUP(X25,シフト記号表!$C$6:$L$47,10,FALSE)) | Y26: =IF(Y25="","",VLOOKUP(Y25,シフト記号表!$C$6:$L$47,10,FALSE)) | Z26: =IF(Z25="","",VLOOKUP(Z25,シフト記号表!$C$6:$L$47,10,FALSE)) | AA26: =IF(AA25="","",VLOOKUP(AA25,シフト記号表!$C$6:$L$47,10,FALSE)) | AB26: =IF(AB25="","",VLOOKUP(AB25,シフト記号表!$C$6:$L$47,10,FALSE)) | AC26: =IF(AC25="","",VLOOKUP(AC25,シフト記号表!$C$6:$L$47,10,FALSE)) | AD26: =IF(AD25="","",VLOOKUP(AD25,シフト記号表!$C$6:$L$47,10,FALSE)) | ... BA26: =IF(BA25="","",VLOOKUP(BA25,シフト記号表!$C$6:$L$47,10,FALSE)) | BB26: =IF($BE$3="４週",SUM(W26:AX26),IF($BE$3="暦月",SUM(W26:BA26),"")) -> 0 | BD26: =IF($BE$3="４週",BB26/4,IF($BE$3="暦月",(BB26/($BE$8/7)),"")) -> 0
B27: =B25+1 -> 6 | T27: シフト記号
F28: =C27 -> 0 | H28: =I27 -> 0 | T28: 勤務時間数 | W28: =IF(W27="","",VLOOKUP(W27,シフト記号表!$C$6:$L$47,10,FALSE)) | X28: =IF(X27="","",VLOOKUP(X27,シフト記号表!$C$6:$L$47,10,FALSE)) | Y28: =IF(Y27="","",VLOOKUP(Y27,シフト記号表!$C$6:$L$47,10,FALSE)) | Z28: =IF(Z27="","",VLOOKUP(Z27,シフト記号表!$C$6:$L$47,10,FALSE)) | AA28: =IF(AA27="","",VLOOKUP(AA27,シフト記号表!$C$6:$L$47,10,FALSE)) | AB28: =IF(AB27="","",VLOOKUP(AB27,シフト記号表!$C$6:$L$47,10,FALSE)) | AC28: =IF(AC27="","",VLOOKUP(AC27,シフト記号表!$C$6:$L$47,10,FALSE)) | AD28: =IF(AD27="","",VLOOKUP(AD27,シフト記号表!$C$6:$L$47,10,FALSE)) | ... BA28: =IF(BA27="","",VLOOKUP(BA27,シフト記号表!$C$6:$L$47,10,FALSE)) | BB28: =IF($BE$3="４週",SUM(W28:AX28),IF($BE$3="暦月",SUM(W28:BA28),"")) -> 0 | BD28: =IF($BE$3="４週",BB28/4,IF($BE$3="暦月",(BB28/($BE$8/7)),"")) -> 0
B29: =B27+1 -> 7 | T29: シフト記号
F30: =C29 -> 0 | H30: =I29 -> 0 | T30: 勤務時間数 | W30: =IF(W29="","",VLOOKUP(W29,シフト記号表!$C$6:$L$47,10,FALSE)) | X30: =IF(X29="","",VLOOKUP(X29,シフト記号表!$C$6:$L$47,10,FALSE)) | Y30: =IF(Y29="","",VLOOKUP(Y29,シフト記号表!$C$6:$L$47,10,FALSE)) | Z30: =IF(Z29="","",VLOOKUP(Z29,シフト記号表!$C$6:$L$47,10,FALSE)) | AA30: =IF(AA29="","",VLOOKUP(AA29,シフト記号表!$C$6:$L$47,10,FALSE)) | AB30: =IF(AB29="","",VLOOKUP(AB29,シフト記号表!$C$6:$L$47,10,FALSE)) | AC30: =IF(AC29="","",VLOOKUP(AC29,シフト記号表!$C$6:$L$47,10,FALSE)) | AD30: =IF(AD29="","",VLOOKUP(AD29,シフト記号表!$C$6:$L$47,10,FALSE)) | ... BA30: =IF(BA29="","",VLOOKUP(BA29,シフト記号表!$C$6:$L$47,10,FALSE)) | BB30: =IF($BE$3="４週",SUM(W30:AX30),IF($BE$3="暦月",SUM(W30:BA30),"")) -> 0 | BD30: =IF($BE$3="４週",BB30/4,IF($BE$3="暦月",(BB30/($BE$8/7)),"")) -> 0
B31: =B29+1 -> 8 | T31: シフト記号
F32: =C31 -> 0 | H32: =I31 -> 0 | T32: 勤務時間数 | W32: =IF(W31="","",VLOOKUP(W31,シフト記号表!$C$6:$L$47,10,FALSE)) | X32: =IF(X31="","",VLOOKUP(X31,シフト記号表!$C$6:$L$47,10,FALSE)) | Y32: =IF(Y31="","",VLOOKUP(Y31,シフト記号表!$C$6:$L$47,10,FALSE)) | Z32: =IF(Z31="","",VLOOKUP(Z31,シフト記号表!$C$6:$L$47,10,FALSE)) | AA32: =IF(AA31="","",VLOOKUP(AA31,シフト記号表!$C$6:$L$47,10,FALSE)) | AB32: =IF(AB31="","",VLOOKUP(AB31,シフト記号表!$C$6:$L$47,10,FALSE)) | AC32: =IF(AC31="","",VLOOKUP(AC31,シフト記号表!$C$6:$L$47,10,FALSE)) | AD32: =IF(AD31="","",VLOOKUP(AD31,シフト記号表!$C$6:$L$47,10,FALSE)) | ... BA32: =IF(BA31="","",VLOOKUP(BA31,シフト記号表!$C$6:$L$47,10,FALSE)) | BB32: =IF($BE$3="４週",SUM(W32:AX32),IF($BE$3="暦月",SUM(W32:BA32),"")) -> 0 | BD32: =IF($BE$3="４週",BB32/4,IF($BE$3="暦月",(BB32/($BE$8/7)),"")) -> 0
B33: =B31+1 -> 9 | T33: シフト記号
F34: =C33 -> 0 | H34: =I33 -> 0 | T34: 勤務時間数 | W34: =IF(W33="","",VLOOKUP(W33,シフト記号表!$C$6:$L$47,10,FALSE)) | X34: =IF(X33="","",VLOOKUP(X33,シフト記号表!$C$6:$L$47,10,FALSE)) | Y34: =IF(Y33="","",VLOOKUP(Y33,シフト記号表!$C$6:$L$47,10,FALSE)) | Z34: =IF(Z33="","",VLOOKUP(Z33,シフト記号表!$C$6:$L$47,10,FALSE)) | AA34: =IF(AA33="","",VLOOKUP(AA33,シフト記号表!$C$6:$L$47,10,FALSE)) | AB34: =IF(AB33="","",VLOOKUP(AB33,シフト記号表!$C$6:$L$47,10,FALSE)) | AC34: =IF(AC33="","",VLOOKUP(AC33,シフト記号表!$C$6:$L$47,10,FALSE)) | AD34: =IF(AD33="","",VLOOKUP(AD33,シフト記号表!$C$6:$L$47,10,FALSE)) | ... BA34: =IF(BA33="","",VLOOKUP(BA33,シフト記号表!$C$6:$L$47,10,FALSE)) | BB34: =IF($BE$3="４週",SUM(W34:AX34),IF($BE$3="暦月",SUM(W34:BA34),"")) -> 0 | BD34: =IF($BE$3="４週",BB34/4,IF($BE$3="暦月",(BB34/($BE$8/7)),"")) -> 0
B35: =B33+1 -> 10 | T35: シフト記号
F36: =C35 -> 0 | H36: =I35 -> 0 | T36: 勤務時間数 | W36: =IF(W35="","",VLOOKUP(W35,シフト記号表!$C$6:$L$47,10,FALSE)) | X36: =IF(X35="","",VLOOKUP(X35,シフト記号表!$C$6:$L$47,10,FALSE)) | Y36: =IF(Y35="","",VLOOKUP(Y35,シフト記号表!$C$6:$L$47,10,FALSE)) | Z36: =IF(Z35="","",VLOOKUP(Z35,シフト記号表!$C$6:$L$47,10,FALSE)) | AA36: =IF(AA35="","",VLOOKUP(AA35,シフト記号表!$C$6:$L$47,10,FALSE)) | AB36: =IF(AB35="","",VLOOKUP(AB35,シフト記号表!$C$6:$L$47,10,FALSE)) | AC36: =IF(AC35="","",VLOOKUP(AC35,シフト記号表!$C$6:$L$47,10,FALSE)) | AD36: =IF(AD35="","",VLOOKUP(AD35,シフト記号表!$C$6:$L$47,10,FALSE)) | ... BA36: =IF(BA35="","",VLOOKUP(BA35,シフト記号表!$C$6:$L$47,10,FALSE)) | BB36: =IF($BE$3="４週",SUM(W36:AX36),IF($BE$3="暦月",SUM(W36:BA36),"")) -> 0 | BD36: =IF($BE$3="４週",BB36/4,IF($BE$3="暦月",(BB36/($BE$8/7)),"")) -> 0
B37: =B35+1 -> 11 | T37: シフト記号
F38: =C37 -> 0 | H38: =I37 -> 0 | T38: 勤務時間数 | W38: =IF(W37="","",VLOOKUP(W37,シフト記号表!$C$6:$L$47,10,FALSE)) | X38: =IF(X37="","",VLOOKUP(X37,シフト記号表!$C$6:$L$47,10,FALSE)) | Y38: =IF(Y37="","",VLOOKUP(Y37,シフト記号表!$C$6:$L$47,10,FALSE)) | Z38: =IF(Z37="","",VLOOKUP(Z37,シフト記号表!$C$6:$L$47,10,FALSE)) | AA38: =IF(AA37="","",VLOOKUP(AA37,シフト記号表!$C$6:$L$47,10,FALSE)) | AB38: =IF(AB37="","",VLOOKUP(AB37,シフト記号表!$C$6:$L$47,10,FALSE)) | AC38: =IF(AC37="","",VLOOKUP(AC37,シフト記号表!$C$6:$L$47,10,FALSE)) | AD38: =IF(AD37="","",VLOOKUP(AD37,シフト記号表!$C$6:$L$47,10,FALSE)) | ... BA38: =IF(BA37="","",VLOOKUP(BA37,シフト記号表!$C$6:$L$47,10,FALSE)) | BB38: =IF($BE$3="４週",SUM(W38:AX38),IF($BE$3="暦月",SUM(W38:BA38),"")) -> 0 | BD38: =IF($BE$3="４週",BB38/4,IF($BE$3="暦月",(BB38/($BE$8/7)),"")) -> 0
B39: =B37+1 -> 12 | T39: シフト記号
F40: =C39 -> 0 | H40: =I39 -> 0 | T40: 勤務時間数 | W40: =IF(W39="","",VLOOKUP(W39,シフト記号表!$C$6:$L$47,10,FALSE)) | X40: =IF(X39="","",VLOOKUP(X39,シフト記号表!$C$6:$L$47,10,FALSE)) | Y40: =IF(Y39="","",VLOOKUP(Y39,シフト記号表!$C$6:$L$47,10,FALSE)) | Z40: =IF(Z39="","",VLOOKUP(Z39,シフト記号表!$C$6:$L$47,10,FALSE)) | AA40: =IF(AA39="","",VLOOKUP(AA39,シフト記号表!$C$6:$L$47,10,FALSE)) | AB40: =IF(AB39="","",VLOOKUP(AB39,シフト記号表!$C$6:$L$47,10,FALSE)) | AC40: =IF(AC39="","",VLOOKUP(AC39,シフト記号表!$C$6:$L$47,10,FALSE)) | AD40: =IF(AD39="","",VLOOKUP(AD39,シフト記号表!$C$6:$L$47,10,FALSE)) | ... BA40: =IF(BA39="","",VLOOKUP(BA39,シフト記号表!$C$6:$L$47,10,FALSE)) | BB40: =IF($BE$3="４週",SUM(W40:AX40),IF($BE$3="暦月",SUM(W40:BA40),"")) -> 0 | BD40: =IF($BE$3="４週",BB40/4,IF($BE$3="暦月",(BB40/($BE$8/7)),"")) -> 0
B41: =B39+1 -> 13 | T41: シフト記号
F42: =C41 -> 0 | H42: =I41 -> 0 | T42: 勤務時間数 | W42: =IF(W41="","",VLOOKUP(W41,シフト記号表!$C$6:$L$47,10,FALSE)) | X42: =IF(X41="","",VLOOKUP(X41,シフト記号表!$C$6:$L$47,10,FALSE)) | Y42: =IF(Y41="","",VLOOKUP(Y41,シフト記号表!$C$6:$L$47,10,FALSE)) | Z42: =IF(Z41="","",VLOOKUP(Z41,シフト記号表!$C$6:$L$47,10,FALSE)) | AA42: =IF(AA41="","",VLOOKUP(AA41,シフト記号表!$C$6:$L$47,10,FALSE)) | AB42: =IF(AB41="","",VLOOKUP(AB41,シフト記号表!$C$6:$L$47,10,FALSE)) | AC42: =IF(AC41="","",VLOOKUP(AC41,シフト記号表!$C$6:$L$47,10,FALSE)) | AD42: =IF(AD41="","",VLOOKUP(AD41,シフト記号表!$C$6:$L$47,10,FALSE)) | ... BA42: =IF(BA41="","",VLOOKUP(BA41,シフト記号表!$C$6:$L$47,10,FALSE)) | BB42: =IF($BE$3="４週",SUM(W42:AX42),IF($BE$3="暦月",SUM(W42:BA42),"")) -> 0 | BD42: =IF($BE$3="４週",BB42/4,IF($BE$3="暦月",(BB42/($BE$8/7)),"")) -> 0
B43: =B41+1 -> 14 | T43: シフト記号
F44: =C43 -> 0 | H44: =I43 -> 0 | T44: 勤務時間数 | W44: =IF(W43="","",VLOOKUP(W43,シフト記号表!$C$6:$L$47,10,FALSE)) | X44: =IF(X43="","",VLOOKUP(X43,シフト記号表!$C$6:$L$47,10,FALSE)) | Y44: =IF(Y43="","",VLOOKUP(Y43,シフト記号表!$C$6:$L$47,10,FALSE)) | Z44: =IF(Z43="","",VLOOKUP(Z43,シフト記号表!$C$6:$L$47,10,FALSE)) | AA44: =IF(AA43="","",VLOOKUP(AA43,シフト記号表!$C$6:$L$47,10,FALSE)) | AB44: =IF(AB43="","",VLOOKUP(AB43,シフト記号表!$C$6:$L$47,10,FALSE)) | AC44: =IF(AC43="","",VLOOKUP(AC43,シフト記号表!$C$6:$L$47,10,FALSE)) | AD44: =IF(AD43="","",VLOOKUP(AD43,シフト記号表!$C$6:$L$47,10,FALSE)) | ... BA44: =IF(BA43="","",VLOOKUP(BA43,シフト記号表!$C$6:$L$47,10,FALSE)) | BB44: =IF($BE$3="４週",SUM(W44:AX44),IF($BE$3="暦月",SUM(W44:BA44),"")) -> 0 | BD44: =IF($BE$3="４週",BB44/4,IF($BE$3="暦月",(BB44/($BE$8/7)),"")) -> 0
...

Sheet シフト記号表
B1: ≪要 提出≫
B2: ■シフト記号表（勤務時間帯）
B3: ※24時間表記 | F3: 休憩時間1時間は「1:00」、休憩時間45分は「00:45」と入力してください。
F4: 勤務時間 | N4: 自由記載欄
B5: No | C5: 記号 | F5: 始業時刻 | H5: 終業時刻 | J5: うち、休憩時間 | L5: 勤務時間
B6: 1 | C6: a | D6: =C6 -> a | E6: ： | F6: 0.29166667 | G6: ～ | H6: 0.66666667 | I6: （ | J6: 0.041666667 | K6: ） | L6: =IF(OR(F6="",H6=""),"",(H6+IF(F6>H6,1,0)-F6-J6)*24) -> 8
B7: 2 | C7: b | D7: =C7 -> b | E7: ： | G7: ～ | I7: （ | J7: 0 | K7: ） | L7: =IF(OR(F7="",H7=""),"",(H7+IF(F7>H7,1,0)-F7-J7)*24)
B8: 3 | C8: c | D8: =C8 -> c | E8: ： | G8: ～ | I8: （ | J8: 0 | K8: ） | L8: =IF(OR(F8="",H8=""),"",(H8+IF(F8>H8,1,0)-F8-J8)*24)
B9: 4 | C9: d | D9: =C9 -> d | E9: ： | G9: ～ | I9: （ | J9: 0 | K9: ） | L9: =IF(OR(F9="",H9=""),"",(H9+IF(F9>H9,1,0)-F9-J9)*24)
B10: 5 | C10: e | D10: =C10 -> e | E10: ： | G10: ～ | I10: （ | J10: 0 | K10: ） | L10: =IF(OR(F10="",H10=""),"",(H10+IF(F10>H10,1,0)-F10-J10)*24)
B11: 6 | C11: f | D11: =C11 -> f | E11: ： | G11: ～ | I11: （ | J11: 0 | K11: ） | L11: =IF(OR(F11="",H11=""),"",(H11+IF(F11>H11,1,0)-F11-J11)*24)
B12: 7 | C12: g | D12: =C12 -> g | E12: ： | G12: ～ | I12: （ | J12: 0 | K12: ） | L12: =IF(OR(F12="",H12=""),"",(H12+IF(F12>H12,1,0)-F12-J12)*24)
B13: 8 | C13: h | D13: =C13 -> h | E13: ： | G13: ～ | I13: （ | J13: 0 | K13: ） | L13: =IF(OR(F13="",H13=""),"",(H13+IF(F13>H13,1,0)-F13-J13)*24)
B14: 9 | C14: i | D14: =C14 -> i | E14: ： | G14: ～ | I14: （ | J14: 0 | K14: ） | L14: =IF(OR(F14="",H14=""),"",(H14+IF(F14>H14,1,0)-F14-J14)*24)
B15: 10 | C15: j | D15: =C15 -> j | E15: ： | G15: ～ | I15: （ | J15: 0 | K15: ） | L15: =IF(OR(F15="",H15=""),"",(H15+IF(F15>H15,1,0)-F15-J15)*24)
B16: 11 | C16: k | D16: =C16 -> k | E16: ： | G16: ～ | I16: （ | J16: 0 | K16: ） | L16: =IF(OR(F16="",H16=""),"",(H16+IF(F16>H16,1,0)-F16-J16)*24)
B17: 12 | C17: l | D17: =C17 -> l | E17: ： | G17: ～ | I17: （ | J17: 0 | K17: ） | L17: =IF(OR(F17="",H17=""),"",(H17+IF(F17>H17,1,0)-F17-J17)*24)
B18: 13 | C18: m | D18: =C18 -> m | E18: ： | G18: ～ | I18: （ | J18: 0 | K18: ） | L18: =IF(OR(F18="",H18=""),"",(H18+IF(F18>H18,1,0)-F18-J18)*24)
... B22: 17 | C22: q | D22: =C22 -> q | E22: ： | G22: ～ | I22: （ | J22: 0 | K22: ） | L22: =IF(OR(F22="",H22=""),"",(H22+IF(F22>H22,1,0)-F22-J22)*24)
B23: 18 | C23: r | D23: =C23 -> r | E23: ： | G23: ～ | I23: （ | K23: ） | L23: 1
B24: 19 | C24: s | D24: =C24 -> s | E24: ： | G24: ～ | I24: （ | K24: ） | L24: 2
B25: 20 | C25: t | D25: =C25 -> t | E25: ： | G25: ～ | I25: （ | K25: ） | L25: 3
B26: 21 | C26: u | D26: =C26 -> u | E26: ： | G26: ～ | I26: （ | K26: ） | L26: 4
B27: 22 | C27: v | D27: =C27 -> v | E27: ： | G27: ～ | I27: （ | K27: ） | L27: 5
B28: 23 | C28: w | D28: =C28 -> w | E28: ： | G28: ～ | I28: （ | K28: ） | L28: 6
B29: 24 | C29: x | D29: =C29 -> x | E29: ： | G29: ～ | I29: （ | K29: ） | L29: 7
B30: 25 | C30: y | D30: =C30 -> y | E30: ： | G30: ～ | I30: （ | K30: ） | L30: 8
B31: 26 | C31: z | D31: =C31 -> z | E31: ： | G31: ～ | I31: （ | K31: ） | L31: 1
B32: 27 | C32: x | D32: =C32 -> x | E32: ： | G32: ～ | I32: （ | K32: ） | L32: 2
B33: 28 | C33: aa | D33: =C33 -> aa | E33: ： | G33: ～ | I33: （ | K33: ） | L33: 3
B34: 29 | C34: ab | D34: =C34 -> ab | E34: ： | G34: ～ | I34: （ | K34: ） | L34: 4
... B38: 33 | C38: af | D38: =C38 -> af | E38: ： | G38: ～ | I38: （ | K38: ） | L38: 8
B39: 34 | C39: ag | E39: ： | G39: ～ | I39: （ | J39: 0 | K39: ） | L39: =IF(OR(F39="",H39=""),"",(H39+IF(F39>H39,1,0)-F39-J39)*24)
C40: - | E40: ： | G40: ～ | I40: （ | J40: 0 | K40: ） | L40: =IF(OR(F40="",H40=""),"",(H40+IF(F40>H40,1,0)-F40-J40)*24)
C41: - | D41: =C39 -> ag | E41: ： | F41: - | G41: ～ | H41: - | I41: （ | J41: - | K41: ） | L41: =IF(OR(L39="",L40=""),"",L39+L40) | N41: 1日に2回勤務する場合
C42: ah | E42: ： | G42: ～ | I42: （ | J42: 0 | K42: ） | L42: =IF(OR(F42="",H42=""),"",(H42+IF(F42>H42,1,0)-F42-J42)*24)
B43: 35 | C43: - | E43: ： | G43: ～ | I43: （ | J43: 0 | K43: ） | L43: =IF(OR(F43="",H43=""),"",(H43+IF(F43>H43,1,0)-F43-J43)*24)
C44: - | D44: =C42 -> ah | E44: ： | F44: - | G44: ～ | H44: - | I44: （ | J44: - | K44: ） | L44: =IF(OR(L42="",L43=""),"",L42+L43) | N44: 1日に2回勤務する場合
C45: ai | E45: ： | G45: ～ | I45: （ | J45: 0 | K45: ） | L45: =IF(OR(F45="",H45=""),"",(H45+IF(F45>H45,1,0)-F45-J45)*24)
B46: 36 | C46: - | E46: ： | G46: ～ | I46: （ | J46: 0 | K46: ） | L46: =IF(OR(F46="",H46=""),"",(H46+IF(F46>H46,1,0)-F46-J46)*24)
...

Sheet 記入方法
B1: ≪提出不要≫
B2: 従業者の勤務の体制及び勤務形態一覧表 記入方法 （特定施設入居者生活介護）
C4: ・・・直接入力する必要がある箇所です。 | F4: 下記の記入方法に従って、入力してください。
C5: ・・・プルダウンから選択して入力する必要がある箇所です。
B6: なお、「従業者の勤務の体制及び勤務形態一覧表」に「シフト記号表（勤務時間帯）」も必ず添付して提出してください。
B8: ・最初に「年月欄」「サービス種別」「事業所名」を入力してください。
B10: (1) 「４週」・「暦月」のいずれかを選択してください。
B12: (2) 「予定」・「実績」・「予定・実績」のいずれかを選択してください。（「予定・実績」は予定と実績が同じだったことを示す場合に選択してください。）
B14: (3) 事業所における常勤の従業者が勤務すべき時間数を入力してください。
B16: (4) 利用者数を入力してください。利用者数は、前年度の平均値（前年度の利用者延数を当該前年度の日数で除して得た数。小数点第2位以下を切り上げ）とします。
B17: 新規又は再開の場合は、推定数を入力してください。
B19: (5) 従業者の職種について、下記のうち該当する職種をプルダウンより選択してください。（直接入力も可能です。）
B20: 記入の順序は、職種ごとにまとめてください。
C22: No | D22: 職種名
C23: 1 | D23: 管理者
C24: 2 | D24: 生活相談員
C25: 3 | D25: 看護職員
C26: 4 | D26: 介護職員
C27: 5 | D27: 機能訓練指導員
C28: 6 | D28: 計画作成担当者
B30: (6) 従業者の勤務形態について、下記のうち該当する区分の記号をプルダウンより選択してください。
B31: 記入の順序は、各職種の中で勤務形態の区分ごとにまとめてください。
C33: 記号 | D33: 区分
C34: A | D34: 常勤で専従
C35: B | D35: 常勤で兼務
C36: C | D36: 非常勤で専従
C37: D | D37: 非常勤で兼務
C39: （注）常勤・非常勤の区分について
C40: 当該事業所における勤務時間が、当該事業所において定められている常勤の従業者が勤務すべき時間数に達していることをいいます。雇用の形態は考慮しません。
C41: （例えば、常勤者は週に40時間勤務することとされた事業所であれば、非正規雇用であっても、週40時間勤務する従業者は常勤扱いとなります。）
B43: (7) 従業者の保有する資格について、該当する資格名称をプルダウンより選択してください。（直接入力も可能です。）
B44: 複数の資格を保有する従業者については、当該事業所にて従事する業務に最も関連する資格１つを選択してください。人員基準上、求められている資格等は必ずご記入ください。
B45: ※選択した資格及び研修に関して、必要に応じて、資格証又は研修修了証等の写しを添付資料として提出してください。
B47: (8) 従業者の氏名を記入してください。
B49: (9) 申請する事業に係る従業者（管理者を含む。）の1ヶ月分の勤務時間を入力してください。（別シートの「シフト記号表」を作成し、シフト記号を選択または入力してください。）
B50: ※ 指定基準の確認に際しては、４週分の入力で差し支えありません。
B52: (10) 従業者ごとに、合計勤務時間数が自動計算されますので、誤りがないか確認してください。
B53: ※入力することができる勤務時間数は、当該事業所において常勤の従業者が勤務すべき勤務時間数を上限とします。
B55: (11) 従業者ごとに、週平均の勤務時間数が自動計算されますので、誤りがないか確認してください。
B57: (12) 申請する事業所以外の事業所・施設との兼務がある場合は、兼務先の事業所・施設の名称及び兼務する職務の内容について記入してください。
...

Sheet プルダウン・リスト
B1: １．サービス種別
B3: No | C3: サービス種別
B4: 1 | C4: 特定施設入居者生活介護
B5: 2 | C5: 介護予防特定施設入居者生活介護
B6: 3 | C6: 特定施設入居者生活介護・介護予防特定施設入居者生活介護
B7: 4 | C7: 外部サービス利用型特定施設入居者生活介護
B8: 5 | C8: 地域密着型特定施設入居者生活介護
B9: 6 | C9: 地域密着型特定施設入居者生活介護（サテライト型）
B10: 7 | C10: 特定施設入居者生活介護・短期入所生活介護
B11: 8 | C11: 特定施設入居者生活介護・共用型認知症対応型通所介護
B12: 9 | C12: ー
B13: 10 | C13: ー
B14: 11 | C14: ー
B15: 12 | C15: ー
... B17: 14 | C17: ー
B19: ２．職種名・資格名称
B21: 職種名 | C21: 管理者 | D21: 生活相談員 | E21: 看護職員 | F21: 介護職員 | G21: 機能訓練指導員 | H21: 計画作成担当者 | I21: ー | J21: ー | K21: ー | L21: ー
B22: 資格 | C22: ー | D22: 社会福祉主事任用資格 | E22: 看護師 | F22: 介護福祉士 | G22: 理学療法士 | H22: 介護支援専門員 | I22: ー | J22: ー
C23: ー | D23: ー | E23: 准看護師 | F23: ー | G23: 作業療法士 | H23: ー | I23: ー | J23: ー
C24: ー | D24: ー | E24: ー | F24: ー | G24: 言語聴覚士 | H24: ー | I24: ー | J24: ー
C25: ー | D25: ー | E25: ー | F25: ー | G25: 看護師 | H25: ー | I25: ー | J25: ー
C26: ー | D26: ー | E26: ー | F26: ー | G26: 准看護師 | H26: ー | I26: ー | J26: ー
C27: ー | D27: ー | E27: ー | F27: ー | G27: 柔道整復師 | H27: ー | I27: ー | J27: ー
C28: ー | D28: ー | E28: ー | F28: ー | G28: あん摩マッサージ指圧師 | H28: ー | I28: ー | J28: ー
C29: ー | D29: ー | E29: ー | F29: ー | G29: はり師 | H29: ー | I29: ー | J29: ー
C30: ー | D30: ー | E30: ー | F30: ー | G30: きゅう師 | H30: ー | I30: ー | J30: ー
C31: ー | D31: ー | E31: ー | F31: ー | G31: ー | H31: ー | I31: ー | J31: ー
C36: 【自治体の皆様へ】
C37: ※ INDIRECT関数使用のため、以下のとおりセルに「名前の定義」をしています。
C38: 21行目・・・「職種」
C39: C列・・・「管理者」
C40: D列・・・「生活相談員」
C41: E列・・・「看護職員」
C42: F列・・・「介護職員」
C43: G列・・・「機能訓練指導員」
C44: H列・・・「計画作成担当者」
C46: ※自治体の条例により定められた資格等、自治体独自の資格を追加する必要がある場合は、上表の空欄に資格名称を追加してください。
C47: 行が足りない場合は、適宜追加してください。
C49: ※職種を追加したい場合は、21行目に職種名を追加し、それぞれの列に必要資格を入力してください。
... C54: 編集したい場合は、「数式」タブ ⇒ 「名前の管理」で編集してください。

Sheet 【記載例】特定施設入居者生活介護
C1: （標準様式1） | M1: 従業者の勤務の体制及び勤務形態一覧表 | AS1: サービス種別（ | AT1: 特定施設入居者生活介護 | BJ1: ）
AB2: 令和 | AC2: 7 | AE2: ( | AF2: =IF(AC2=0,"",YEAR(DATE(2018+AC2,1,1))) -> 2025 | AH2: ) | AI2: 年 | AJ2: 4 | AL2: 月 | AS2: 事業所名（ | AT2: ○○○○ | BJ2: ）
BD3: (1) | BE3: ４週
BD4: (2) | BE4: 予定
AO6: (3) 事業所における常勤の従業者が勤務すべき時間数 | BA6: 40 | BC6: 時間/週 | BE6: 160 | BG6: 時間/月
BB8: 当月の日数 | BE8: =DAY(EOMONTH(DATE(AF2,AJ2,1),0)) -> 30 | BG8: 日
AS10: (4) 利用者数 | BC10: （前年度の平均値または推定数） | BE10: 36 | BG10: 人
B12: No | C12: (4) 職種 | I12: (5) 勤務 形態 | K12: (6) 資格 | O12: (7) 氏 名 | W12: (8) | BB12: =IF(BE3="４週","(9)1～4週目の勤務時間数合計","(9)1か月の勤務時間数 合計") -> (9)1～4週目の勤務時間数合計 | BD12: (10) 週平均 勤務時間数 | BF12: (11) 兼務状況 （兼務先/兼務する職務の内容）等
W13: 1週目 | AD13: 2週目 | AK13: 3週目 | AR13: 4週目 | AY13: 5週目
W14: 1 | X14: 2 | Y14: 3 | Z14: 4 | AA14: 5 | AB14: 6 | AC14: 7 | AD14: 8 | AE14: 9 | AF14: 10 | AG14: 11 | AH14: 12 | AI14: 13 | AJ14: 14 | AK14: 15 | AL14: 16 | AM14: 17 | AN14: 18 | AO14: 19 | AP14: 20 | AQ14: 21 | AR14: 22 | AS14: 23 | AT14: 24 | AU14: 25 | AV14: 26 | AW14: 27 | AX14: 28 | AY14: =IF($BE$3="実績",IF(DAY(DATE($AF$2,$AJ$2,29))=29,29,""),"") | AZ14: =IF($BE$3="実績",IF(DAY(DATE($AF$2,$AJ$2,30))=30,30,""),"") | BA14: =IF($BE$3="実績",IF(DAY(DATE($AF$2,$AJ$2,31))=31,31,""),"")
W15: =WEEKDAY(DATE($AF$2,$AJ$2,1)) -> 3 | X15: =WEEKDAY(DATE($AF$2,$AJ$2,2)) -> 4 | Y15: =WEEKDAY(DATE($AF$2,$AJ$2,3)) -> 5 | Z15: =WEEKDAY(DATE($AF$2,$AJ$2,4)) -> 6 | AA15: =WEEKDAY(DATE($AF$2,$AJ$2,5)) -> 7 | AB15: =WEEKDAY(DATE($AF$2,$AJ$2,6)) -> 1 | AC15: =WEEKDAY(DATE($AF$2,$AJ$2,7)) -> 2 | AD15: =WEEKDAY(DATE($AF$2,$AJ$2,8)) -> 3 | AE15: =WEEKDAY(DATE($AF$2,$AJ$2,9)) -> 4 | AF15: =WEEKDAY(DATE($AF$2,$AJ$2,10)) -> 5 | AG15: =WEEKDAY(DATE($AF$2,$AJ$2,11)) -> 6 | AH15: =WEEKDAY(DATE($AF$2,$AJ$2,12)) -> 7 | AI15: =WEEKDAY(DATE($AF$2,$AJ$2,13)) -> 1 | AJ15: =WEEKDAY(DATE($AF$2,$AJ$2,14)) -> 2 | AK15: =WEEKDAY(DATE($AF$2,$AJ$2,15)) -> 3 | AL15: =WEEKDAY(DATE($AF$2,$AJ$2,16)) -> 4 | AM15: =WEEKDAY(DATE($AF$2,$AJ$2,17)) -> 5 | AN15: =WEEKDAY(DATE($AF$2,$AJ$2,18)) -> 6 | AO15: =WEEKDAY(DATE($AF$2,$AJ$2,19)) -> 7 | AP15: =WEEKDAY(DATE($AF$2,$AJ$2,20)) -> 1 | AQ15: =WEEKDAY(DATE($AF$2,$AJ$2,21)) -> 2 | AR15: =WEEKDAY(DATE($AF$2,$AJ$2,22)) -> 3 | AS15: =WEEKDAY(DATE($AF$2,$AJ$2,23)) -> 4 | AT15: =WEEKDAY(DATE($AF$2,$AJ$2,24)) -> 5 | AU15: =WEEKDAY(DATE($AF$2,$AJ$2,25)) -> 6 | AV15: =WEEKDAY(DATE($AF$2,$AJ$2,26)) -> 7 | AW15: =WEEKDAY(DATE($AF$2,$AJ$2,27)) -> 1 | AX15: =WEEKDAY(DATE($AF$2,$AJ$2,28)) -> 2 | AY15: =IF(AY14=29,WEEKDAY(DATE($AF$2,$AJ$2,29)),0) -> 0 | AZ15: =IF(AZ14=30,WEEKDAY(DATE($AF$2,$AJ$2,30)),0) -> 0 | BA15: =IF(BA14=31,WEEKDAY(DATE($AF$2,$AJ$2,31)),0) -> 0
W16: =IF(W15=1,"日",IF(W15=2,"月",IF(W15=3,"火",IF(W15=4,"水",IF(W15=5,"木",IF(W15=6,"金","土")))))) -> 火 | X16: =IF(X15=1,"日",IF(X15=2,"月",IF(X15=3,"火",IF(X15=4,"水",IF(X15=5,"木",IF(X15=6,"金","土")))))) -> 水 | Y16: =IF(Y15=1,"日",IF(Y15=2,"月",IF(Y15=3,"火",IF(Y15=4,"水",IF(Y15=5,"木",IF(Y15=6,"金","土")))))) -> 木 | Z16: =IF(Z15=1,"日",IF(Z15=2,"月",IF(Z15=3,"火",IF(Z15=4,"水",IF(Z15=5,"木",IF(Z15=6,"金","土")))))) -> 金 | AA16: =IF(AA15=1,"日",IF(AA15=2,"月",IF(AA15=3,"火",IF(AA15=4,"水",IF(AA15=5,"木",IF(AA15=6,"金","土")))))) -> 土 | AB16: =IF(AB15=1,"日",IF(AB15=2,"月",IF(AB15=3,"火",IF(AB15=4,"水",IF(AB15=5,"木",IF(AB15=6,"金","土")))))) -> 日 | AC16: =IF(AC15=1,"日",IF(AC15=2,"月",IF(AC15=3,"火",IF(AC15=4,"水",IF(AC15=5,"木",IF(AC15=6,"金","土")))))) -> 月 | AD16: =IF(AD15=1,"日",IF(AD15=2,"月",IF(AD15=3,"火",IF(AD15=4,"水",IF(AD15=5,"木",IF(AD15=6,"金","土")))))) -> 火 | ... AX16: =IF(AX15=1,"日",IF(AX15=2,"月",IF(AX15=3,"火",IF(AX15=4,"水",IF(AX15=5,"木",IF(AX15=6,"金","土")))))) -> 月 | AY16: =IF(AY15=1,"日",IF(AY15=2,"月",IF(AY15=3,"火",IF(AY15=4,"水",IF(AY15=5,"木",IF(AY15=6,"金",IF(AY15=0,"","土"))))))) | AZ16: =IF(AZ15=1,"日",IF(AZ15=2,"月",IF(AZ15=3,"火",IF(AZ15=4,"水",IF(AZ15=5,"木",IF(AZ15=6,"金",IF(AZ15=0,"","土"))))))) | BA16: =IF(BA15=1,"日",IF(BA15=2,"月",IF(BA15=3,"火",IF(BA15=4,"水",IF(BA15=5,"木",IF(BA15=6,"金",IF(BA15=0,"","土")))))))
B17: =B15+1 -> 1 | C17: 管理者 | I17: A | K17: ー | O17: 厚労 太郎 | T17: シフト記号 | W17: b | X17: b | Y17: b | AB17: b | AC17: b | AD17: b | AE17: b | AF17: b | AI17: b | AJ17: b | AK17: b | AL17: b | AM17: b | AP17: b | AQ17: b | AR17: b | AS17: b | AT17: b | AW17: b | AX17: b
F18: =C17 -> 管理者 | H18: =I17 -> A | T18: 勤務時間数 | W18: =IF(W17="","",VLOOKUP(W17,'【記載例】シフト記号表（勤務時間帯）'!$C$6:$L$47,10,FALSE)) -> 8 | X18: =IF(X17="","",VLOOKUP(X17,'【記載例】シフト記号表（勤務時間帯）'!$C$6:$L$47,10,FALSE)) -> 8 | Y18: =IF(Y17="","",VLOOKUP(Y17,'【記載例】シフト記号表（勤務時間帯）'!$C$6:$L$47,10,FALSE)) -> 8 | Z18: =IF(Z17="","",VLOOKUP(Z17,'【記載例】シフト記号表（勤務時間帯）'!$C$6:$L$47,10,FALSE)) | AA18: =IF(AA17="","",VLOOKUP(AA17,'【記載例】シフト記号表（勤務時間帯）'!$C$6:$L$47,10,FALSE)) | AB18: =IF(AB17="","",VLOOKUP(AB17,'【記載例】シフト記号表（勤務時間帯）'!$C$6:$L$47,10,FALSE)) -> 8 | AC18: =IF(AC17="","",VLOOKUP(AC17,'【記載例】シフト記号表（勤務時間帯）'!$C$6:$L$47,10,FALSE)) -> 8 | AD18: =IF(AD17="","",VLOOKUP(AD17,'【記載例】シフト記号表（勤務時間帯）'!$C$6:$L$47,10,FALSE)) -> 8 | ... BA18: =IF(BA17="","",VLOOKUP(BA17,'【記載例】シフト記号表（勤務時間帯）'!$C$6:$L$47,10,FALSE)) | BB18: =IF($BE$3="４週",SUM(W18:AX18),IF($BE$3="暦月",SUM(W18:BA18),"")) -> 160 | BD18: =IF($BE$3="４週",BB18/4,IF($BE$3="暦月",(BB18/($BE$8/7)),"")) -> 40
B19: =B17+1 -> 2 | C19: 生活相談員 | I19: A | K19: 社会福祉主事任用資格 | O19: ○○ A男 | T19: シフト記号 | W19: b | X19: b | AA19: b | AB19: b | AC19: b | AD19: b | AE19: b | AG19: b | AH19: b | AI19: b | AK19: b | AL19: b | AM19: b | AO19: b | AP19: b | AR19: b | AS19: b | AV19: b | AW19: b | AX19: b
F20: =C19 -> 生活相談員 | H20: =I19 -> A | T20: 勤務時間数 | W20: =IF(W19="","",VLOOKUP(W19,'【記載例】シフト記号表（勤務時間帯）'!$C$6:$L$47,10,FALSE)) -> 8 | X20: =IF(X19="","",VLOOKUP(X19,'【記載例】シフト記号表（勤務時間帯）'!$C$6:$L$47,10,FALSE)) -> 8 | Y20: =IF(Y19="","",VLOOKUP(Y19,'【記載例】シフト記号表（勤務時間帯）'!$C$6:$L$47,10,FALSE)) | Z20: =IF(Z19="","",VLOOKUP(Z19,'【記載例】シフト記号表（勤務時間帯）'!$C$6:$L$47,10,FALSE)) | AA20: =IF(AA19="","",VLOOKUP(AA19,'【記載例】シフト記号表（勤務時間帯）'!$C$6:$L$47,10,FALSE)) -> 8 | AB20: =IF(AB19="","",VLOOKUP(AB19,'【記載例】シフト記号表（勤務時間帯）'!$C$6:$L$47,10,FALSE)) -> 8 | AC20: =IF(AC19="","",VLOOKUP(AC19,'【記載例】シフト記号表（勤務時間帯）'!$C$6:$L$47,10,FALSE)) -> 8 | AD20: =IF(AD19="","",VLOOKUP(AD19,'【記載例】シフト記号表（勤務時間帯）'!$C$6:$L$47,10,FALSE)) -> 8 | ... BA20: =IF(BA19="","",VLOOKUP(BA19,'【記載例】シフト記号表（勤務時間帯）'!$C$6:$L$47,10,FALSE)) | BB20: =IF($BE$3="４週",SUM(W20:AX20),IF($BE$3="暦月",SUM(W20:BA20),"")) -> 160 | BD20: =IF($BE$3="４週",BB20/4,IF($BE$3="暦月",(BB20/($BE$8/7)),"")) -> 40
B21: =B19+1 -> 3 | C21: 計画作成担当者 | I21: A | K21: 介護支援専門員 | O21: ○○ B子 | T21: シフト記号 | W21: b | X21: b | Y21: b | AB21: b | AC21: b | AD21: b | AE21: b | AF21: b | AI21: b | AJ21: b | AK21: b | AL21: b | AM21: b | AP21: b | AQ21: b | AR21: b | AS21: b | AT21: b | AW21: b | AX21: b
F22: =C21 -> 計画作成担当者 | H22: =I21 -> A | T22: 勤務時間数 | W22: =IF(W21="","",VLOOKUP(W21,'【記載例】シフト記号表（勤務時間帯）'!$C$6:$L$47,10,FALSE)) -> 8 | X22: =IF(X21="","",VLOOKUP(X21,'【記載例】シフト記号表（勤務時間帯）'!$C$6:$L$47,10,FALSE)) -> 8 | Y22: =IF(Y21="","",VLOOKUP(Y21,'【記載例】シフト記号表（勤務時間帯）'!$C$6:$L$47,10,FALSE)) -> 8 | Z22: =IF(Z21="","",VLOOKUP(Z21,'【記載例】シフト記号表（勤務時間帯）'!$C$6:$L$47,10,FALSE)) | AA22: =IF(AA21="","",VLOOKUP(AA21,'【記載例】シフト記号表（勤務時間帯）'!$C$6:$L$47,10,FALSE)) | AB22: =IF(AB21="","",VLOOKUP(AB21,'【記載例】シフト記号表（勤務時間帯）'!$C$6:$L$47,10,FALSE)) -> 8 | AC22: =IF(AC21="","",VLOOKUP(AC21,'【記載例】シフト記号表（勤務時間帯）'!$C$6:$L$47,10,FALSE)) -> 8 | AD22: =IF(AD21="","",VLOOKUP(AD21,'【記載例】シフト記号表（勤務時間帯）'!$C$6:$L$47,10,FALSE)) -> 8 | ... BA22: =IF(BA21="","",VLOOKUP(BA21,'【記載例】シフト記号表（勤務時間帯）'!$C$6:$L$47,10,FALSE)) | BB22: =IF($BE$3="４週",SUM(W22:AX22),IF($BE$3="暦月",SUM(W22:BA22),"")) -> 160 | BD22: =IF($BE$3="４週",BB22/4,IF($BE$3="暦月",(BB22/($BE$8/7)),"")) -> 40
B23: =B21+1 -> 4 | C23: 機能訓練指導員 | I23: B | K23: 看護師 | O23: ○○ C太 | T23: シフト記号 | W23: f | X23: f | Y23: f | AB23: f | AC23: f | AD23: f | AE23: f | AF23: f | AI23: f | AJ23: f | AK23: f | AL23: f | AM23: f | AP23: f | AQ23: f | AR23: f | AS23: f | AT23: f | AW23: f | AX23: f
F24: =C23 -> 機能訓練指導員 | H24: =I23 -> B | T24: 勤務時間数 | W24: =IF(W23="","",VLOOKUP(W23,'【記載例】シフト記号表（勤務時間帯）'!$C$6:$L$47,10,FALSE)) -> 4 | X24: =IF(X23="","",VLOOKUP(X23,'【記載例】シフト記号表（勤務時間帯）'!$C$6:$L$47,10,FALSE)) -> 4 | Y24: =IF(Y23="","",VLOOKUP(Y23,'【記載例】シフト記号表（勤務時間帯）'!$C$6:$L$47,10,FALSE)) -> 4 | Z24: =IF(Z23="","",VLOOKUP(Z23,'【記載例】シフト記号表（勤務時間帯）'!$C$6:$L$47,10,FALSE)) | AA24: =IF(AA23="","",VLOOKUP(AA23,'【記載例】シフト記号表（勤務時間帯）'!$C$6:$L$47,10,FALSE)) | AB24: =IF(AB23="","",VLOOKUP(AB23,'【記載例】シフト記号表（勤務時間帯）'!$C$6:$L$47,10,FALSE)) -> 4 | AC24: =IF(AC23="","",VLOOKUP(AC23,'【記載例】シフト記号表（勤務時間帯）'!$C$6:$L$47,10,FALSE)) -> 4 | AD24: =IF(AD23="","",VLOOKUP(AD23,'【記載例】シフト記号表（勤務時間帯）'!$C$6:$L$47,10,FALSE)) -> 4 | ... BA24: =IF(BA23="","",VLOOKUP(BA23,'【記載例】シフト記号表（勤務時間帯）'!$C$6:$L$47,10,FALSE)) | BB24: =IF($BE$3="４週",SUM(W24:AX24),IF($BE$3="暦月",SUM(W24:BA24),"")) -> 80 | BD24: =IF($BE$3="４週",BB24/4,IF($BE$3="暦月",(BB24/($BE$8/7)),"")) -> 20
B25: =B23+1 -> 5 | C25: 看護職員 | I25: A | K25: 看護師 | O25: ○○ D美 | T25: シフト記号 | W25: b | X25: b | Y25: b | AB25: b | AC25: b | AD25: b | AE25: b | AF25: b | AI25: b | AJ25: b | AK25: b | AL25: b | AM25: b | AP25: b | AQ25: b | AR25: b | AS25: b | AT25: b | AW25: b | AX25: b
F26: =C25 -> 看護職員 | H26: =I25 -> A | T26: 勤務時間数 | W26: =IF(W25="","",VLOOKUP(W25,'【記載例】シフト記号表（勤務時間帯）'!$C$6:$L$47,10,FALSE)) -> 8 | X26: =IF(X25="","",VLOOKUP(X25,'【記載例】シフト記号表（勤務時間帯）'!$C$6:$L$47,10,FALSE)) -> 8 | Y26: =IF(Y25="","",VLOOKUP(Y25,'【記載例】シフト記号表（勤務時間帯）'!$C$6:$L$47,10,FALSE)) -> 8 | Z26: =IF(Z25="","",VLOOKUP(Z25,'【記載例】シフト記号表（勤務時間帯）'!$C$6:$L$47,10,FALSE)) | AA26: =IF(AA25="","",VLOOKUP(AA25,'【記載例】シフト記号表（勤務時間帯）'!$C$6:$L$47,10,FALSE)) | AB26: =IF(AB25="","",VLOOKUP(AB25,'【記載例】シフト記号表（勤務時間帯）'!$C$6:$L$47,10,FALSE)) -> 8 | AC26: =IF(AC25="","",VLOOKUP(AC25,'【記載例】シフト記号表（勤務時間帯）'!$C$6:$L$47,10,FALSE)) -> 8 | AD26: =IF(AD25="","",VLOOKUP(AD25,'【記載例】シフト記号表（勤務時間帯）'!$C$6:$L$47,10,FALSE)) -> 8 | ... BA26: =IF(BA25="","",VLOOKUP(BA25,'【記載例】シフト記号表（勤務時間帯）'!$C$6:$L$47,10,FALSE)) | BB26: =IF($BE$3="４週",SUM(W26:AX26),IF($BE$3="暦月",SUM(W26:BA26),"")) -> 160 | BD26: =IF($BE$3="４週",BB26/4,IF($BE$3="暦月",(BB26/($BE$8/7)),"")) -> 40
B27: =B25+1 -> 6 | C27: 看護職員 | I27: A | K27: 看護師 | O27: ○○ E太 | T27: シフト記号 | W27: h | X27: i | Y27: a | Z27: a | AB27: d | AE27: h | AF27: i | AG27: a | AH27: a | AJ27: d | AK27: d | AM27: h | AN27: i | AO27: a | AP27: a | AR27: d | AU27: h | AV27: i | AW27: a | AX27: a
F28: =C27 -> 看護職員 | H28: =I27 -> A | T28: 勤務時間数 | W28: =IF(W27="","",VLOOKUP(W27,'【記載例】シフト記号表（勤務時間帯）'!$C$6:$L$47,10,FALSE)) -> 8 | X28: =IF(X27="","",VLOOKUP(X27,'【記載例】シフト記号表（勤務時間帯）'!$C$6:$L$47,10,FALSE)) -> 8 | Y28: =IF(Y27="","",VLOOKUP(Y27,'【記載例】シフト記号表（勤務時間帯）'!$C$6:$L$47,10,FALSE)) -> 8 | Z28: =IF(Z27="","",VLOOKUP(Z27,'【記載例】シフト記号表（勤務時間帯）'!$C$6:$L$47,10,FALSE)) -> 8 | AA28: =IF(AA27="","",VLOOKUP(AA27,'【記載例】シフト記号表（勤務時間帯）'!$C$6:$L$47,10,FALSE)) | AB28: =IF(AB27="","",VLOOKUP(AB27,'【記載例】シフト記号表（勤務時間帯）'!$C$6:$L$47,10,FALSE)) -> 8 | AC28: =IF(AC27="","",VLOOKUP(AC27,'【記載例】シフト記号表（勤務時間帯）'!$C$6:$L$47,10,FALSE)) | AD28: =IF(AD27="","",VLOOKUP(AD27,'【記載例】シフト記号表（勤務時間帯）'!$C$6:$L$47,10,FALSE)) | ... BA28: =IF(BA27="","",VLOOKUP(BA27,'【記載例】シフト記号表（勤務時間帯）'!$C$6:$L$47,10,FALSE)) | BB28: =IF($BE$3="４週",SUM(W28:AX28),IF($BE$3="暦月",SUM(W28:BA28),"")) -> 160 | BD28: =IF($BE$3="４週",BB28/4,IF($BE$3="暦月",(BB28/($BE$8/7)),"")) -> 40
B29: =B27+1 -> 7 | C29: 看護職員 | I29: B | K29: 看護師 | O29: ○○ C太 | T29: シフト記号 | W29: e | X29: e | Y29: e | AB29: e | AC29: e | AD29: e | AE29: e | AF29: e | AI29: e | AJ29: e | AK29: e | AL29: e | AM29: e | AP29: e | AQ29: e | AR29: e | AS29: e | AT29: e | AW29: e | AX29: e
F30: =C29 -> 看護職員 | H30: =I29 -> B | T30: 勤務時間数 | W30: =IF(W29="","",VLOOKUP(W29,'【記載例】シフト記号表（勤務時間帯）'!$C$6:$L$47,10,FALSE)) -> 4 | X30: =IF(X29="","",VLOOKUP(X29,'【記載例】シフト記号表（勤務時間帯）'!$C$6:$L$47,10,FALSE)) -> 4 | Y30: =IF(Y29="","",VLOOKUP(Y29,'【記載例】シフト記号表（勤務時間帯）'!$C$6:$L$47,10,FALSE)) -> 4 | Z30: =IF(Z29="","",VLOOKUP(Z29,'【記載例】シフト記号表（勤務時間帯）'!$C$6:$L$47,10,FALSE)) | AA30: =IF(AA29="","",VLOOKUP(AA29,'【記載例】シフト記号表（勤務時間帯）'!$C$6:$L$47,10,FALSE)) | AB30: =IF(AB29="","",VLOOKUP(AB29,'【記載例】シフト記号表（勤務時間帯）'!$C$6:$L$47,10,FALSE)) -> 4 | AC30: =IF(AC29="","",VLOOKUP(AC29,'【記載例】シフト記号表（勤務時間帯）'!$C$6:$L$47,10,FALSE)) -> 4 | AD30: =IF(AD29="","",VLOOKUP(AD29,'【記載例】シフト記号表（勤務時間帯）'!$C$6:$L$47,10,FALSE)) -> 4 | ... BA30: =IF(BA29="","",VLOOKUP(BA29,'【記載例】シフト記号表（勤務時間帯）'!$C$6:$L$47,10,FALSE)) | BB30: =IF($BE$3="４週",SUM(W30:AX30),IF($BE$3="暦月",SUM(W30:BA30),"")) -> 80 | BD30: =IF($BE$3="４週",BB30/4,IF($BE$3="暦月",(BB30/($BE$8/7)),"")) -> 20
B31: =B29+1 -> 8 | C31: 看護職員 | I31: A | K31: 看護師 | O31: ○○ E子 | T31: シフト記号 | Y31: b | Z31: b | AA31: b | AB31: b | AC31: b | AF31: b | AG31: b | AH31: b | AI31: b | AJ31: b | AM31: b | AN31: b | AO31: b | AP31: b | AQ31: b | AT31: b | AU31: b | AV31: b | AW31: b | AX31: b
F32: =C31 -> 看護職員 | H32: =I31 -> A | T32: 勤務時間数 | W32: =IF(W31="","",VLOOKUP(W31,'【記載例】シフト記号表（勤務時間帯）'!$C$6:$L$47,10,FALSE)) | X32: =IF(X31="","",VLOOKUP(X31,'【記載例】シフト記号表（勤務時間帯）'!$C$6:$L$47,10,FALSE)) | Y32: =IF(Y31="","",VLOOKUP(Y31,'【記載例】シフト記号表（勤務時間帯）'!$C$6:$L$47,10,FALSE)) -> 8 | Z32: =IF(Z31="","",VLOOKUP(Z31,'【記載例】シフト記号表（勤務時間帯）'!$C$6:$L$47,10,FALSE)) -> 8 | AA32: =IF(AA31="","",VLOOKUP(AA31,'【記載例】シフト記号表（勤務時間帯）'!$C$6:$L$47,10,FALSE)) -> 8 | AB32: =IF(AB31="","",VLOOKUP(AB31,'【記載例】シフト記号表（勤務時間帯）'!$C$6:$L$47,10,FALSE)) -> 8 | AC32: =IF(AC31="","",VLOOKUP(AC31,'【記載例】シフト記号表（勤務時間帯）'!$C$6:$L$47,10,FALSE)) -> 8 | AD32: =IF(AD31="","",VLOOKUP(AD31,'【記載例】シフト記号表（勤務時間帯）'!$C$6:$L$47,10,FALSE)) | ... BA32: =IF(BA31="","",VLOOKUP(BA31,'【記載例】シフト記号表（勤務時間帯）'!$C$6:$L$47,10,FALSE)) | BB32: =IF($BE$3="４週",SUM(W32:AX32),IF($BE$3="暦月",SUM(W32:BA32),"")) -> 160 | BD32: =IF($BE$3="４週",BB32/4,IF($BE$3="暦月",(BB32/($BE$8/7)),"")) -> 40
B33: =B31+1 -> 9 | C33: 介護職員 | I33: A | K33: 介護福祉士 | O33: ○○ F子 | T33: シフト記号 | W33: b | X33: b | Y33: b | AB33: b | AC33: b | AD33: b | AE33: b | AF33: b | AI33: b | AJ33: b | AK33: b | AL33: b | AM33: b | AP33: b | AQ33: b | AR33: b | AS33: b | AT33: b | AW33: b | AX33: b
F34: =C33 -> 介護職員 | H34: =I33 -> A | T34: 勤務時間数 | W34: =IF(W33="","",VLOOKUP(W33,'【記載例】シフト記号表（勤務時間帯）'!$C$6:$L$47,10,FALSE)) -> 8 | X34: =IF(X33="","",VLOOKUP(X33,'【記載例】シフト記号表（勤務時間帯）'!$C$6:$L$47,10,FALSE)) -> 8 | Y34: =IF(Y33="","",VLOOKUP(Y33,'【記載例】シフト記号表（勤務時間帯）'!$C$6:$L$47,10,FALSE)) -> 8 | Z34: =IF(Z33="","",VLOOKUP(Z33,'【記載例】シフト記号表（勤務時間帯）'!$C$6:$L$47,10,FALSE)) | AA34: =IF(AA33="","",VLOOKUP(AA33,'【記載例】シフト記号表（勤務時間帯）'!$C$6:$L$47,10,FALSE)) | AB34: =IF(AB33="","",VLOOKUP(AB33,'【記載例】シフト記号表（勤務時間帯）'!$C$6:$L$47,10,FALSE)) -> 8 | AC34: =IF(AC33="","",VLOOKUP(AC33,'【記載例】シフト記号表（勤務時間帯）'!$C$6:$L$47,10,FALSE)) -> 8 | AD34: =IF(AD33="","",VLOOKUP(AD33,'【記載例】シフト記号表（勤務時間帯）'!$C$6:$L$47,10,FALSE)) -> 8 | ... BA34: =IF(BA33="","",VLOOKUP(BA33,'【記載例】シフト記号表（勤務時間帯）'!$C$6:$L$47,10,FALSE)) | BB34: =IF($BE$3="４週",SUM(W34:AX34),IF($BE$3="暦月",SUM(W34:BA34),"")) -> 160 | BD34: =IF($BE$3="４週",BB34/4,IF($BE$3="暦月",(BB34/($BE$8/7)),"")) -> 40
B35: =B33+1 -> 10 | C35: 介護職員 | I35: A | K35: 介護福祉士 | O35: ○○ G太 | T35: シフト記号 | W35: h | X35: i | Y35: a | Z35: a | AB35: d | AE35: h | AF35: i | AG35: a | AH35: a | AJ35: d | AK35: d | AM35: h | AN35: i | AO35: a | AP35: a | AR35: d | AU35: h | AV35: i | AW35: a | AX35: a
F36: =C35 -> 介護職員 | H36: =I35 -> A | T36: 勤務時間数 | W36: =IF(W35="","",VLOOKUP(W35,'【記載例】シフト記号表（勤務時間帯）'!$C$6:$L$47,10,FALSE)) -> 8 | X36: =IF(X35="","",VLOOKUP(X35,'【記載例】シフト記号表（勤務時間帯）'!$C$6:$L$47,10,FALSE)) -> 8 | Y36: =IF(Y35="","",VLOOKUP(Y35,'【記載例】シフト記号表（勤務時間帯）'!$C$6:$L$47,10,FALSE)) -> 8 | Z36: =IF(Z35="","",VLOOKUP(Z35,'【記載例】シフト記号表（勤務時間帯）'!$C$6:$L$47,10,FALSE)) -> 8 | AA36: =IF(AA35="","",VLOOKUP(AA35,'【記載例】シフト記号表（勤務時間帯）'!$C$6:$L$47,10,FALSE)) | AB36: =IF(AB35="","",VLOOKUP(AB35,'【記載例】シフト記号表（勤務時間帯）'!$C$6:$L$47,10,FALSE)) -> 8 | AC36: =IF(AC35="","",VLOOKUP(AC35,'【記載例】シフト記号表（勤務時間帯）'!$C$6:$L$47,10,FALSE)) | AD36: =IF(AD35="","",VLOOKUP(AD35,'【記載例】シフト記号表（勤務時間帯）'!$C$6:$L$47,10,FALSE)) | ... BA36: =IF(BA35="","",VLOOKUP(BA35,'【記載例】シフト記号表（勤務時間帯）'!$C$6:$L$47,10,FALSE)) | BB36: =IF($BE$3="４週",SUM(W36:AX36),IF($BE$3="暦月",SUM(W36:BA36),"")) -> 160 | BD36: =IF($BE$3="４週",BB36/4,IF($BE$3="暦月",(BB36/($BE$8/7)),"")) -> 40
B37: =B35+1 -> 11 | C37: 介護職員 | I37: A | K37: ー | O37: ○○ H美 | T37: シフト記号 | X37: h | Y37: i | Z37: d | AA37: a | AC37: d | AD37: d | AF37: h | AG37: i | AH37: d | AI37: a | AK37: d | AL37: a | AN37: h | AO37: i | AP37: d | AS37: d | AT37: a | AV37: h | AW37: i | AX37: d
F38: =C37 -> 介護職員 | H38: =I37 -> A | T38: 勤務時間数 | W38: =IF(W37="","",VLOOKUP(W37,'【記載例】シフト記号表（勤務時間帯）'!$C$6:$L$47,10,FALSE)) | X38: =IF(X37="","",VLOOKUP(X37,'【記載例】シフト記号表（勤務時間帯）'!$C$6:$L$47,10,FALSE)) -> 8 | Y38: =IF(Y37="","",VLOOKUP(Y37,'【記載例】シフト記号表（勤務時間帯）'!$C$6:$L$47,10,FALSE)) -> 8 | Z38: =IF(Z37="","",VLOOKUP(Z37,'【記載例】シフト記号表（勤務時間帯）'!$C$6:$L$47,10,FALSE)) -> 8 | AA38: =IF(AA37="","",VLOOKUP(AA37,'【記載例】シフト記号表（勤務時間帯）'!$C$6:$L$47,10,FALSE)) -> 8 | AB38: =IF(AB37="","",VLOOKUP(AB37,'【記載例】シフト記号表（勤務時間帯）'!$C$6:$L$47,10,FALSE)) | AC38: =IF(AC37="","",VLOOKUP(AC37,'【記載例】シフト記号表（勤務時間帯）'!$C$6:$L$47,10,FALSE)) -> 8 | AD38: =IF(AD37="","",VLOOKUP(AD37,'【記載例】シフト記号表（勤務時間帯）'!$C$6:$L$47,10,FALSE)) -> 8 | ... BA38: =IF(BA37="","",VLOOKUP(BA37,'【記載例】シフト記号表（勤務時間帯）'!$C$6:$L$47,10,FALSE)) | BB38: =IF($BE$3="４週",SUM(W38:AX38),IF($BE$3="暦月",SUM(W38:BA38),"")) -> 160 | BD38: =IF($BE$3="４週",BB38/4,IF($BE$3="暦月",(BB38/($BE$8/7)),"")) -> 40
B39: =B37+1 -> 12 | C39: 介護職員 | I39: A | K39: ー | O39: ○○ J太郎 | T39: シフト記号 | W39: d | Y39: h | Z39: i | AA39: d | AB39: a | AD39: a | AE39: d | AG39: h | AH39: i | AI39: d | AK39: a | AL39: d | AO39: h | AP39: i | AQ39: a | AR39: a | AT39: d | AU39: a | AW39: h | AX39: i
F40: =C39 -> 介護職員 | H40: =I39 -> A | T40: 勤務時間数 | W40: =IF(W39="","",VLOOKUP(W39,'【記載例】シフト記号表（勤務時間帯）'!$C$6:$L$47,10,FALSE)) -> 8 | X40: =IF(X39="","",VLOOKUP(X39,'【記載例】シフト記号表（勤務時間帯）'!$C$6:$L$47,10,FALSE)) | Y40: =IF(Y39="","",VLOOKUP(Y39,'【記載例】シフト記号表（勤務時間帯）'!$C$6:$L$47,10,FALSE)) -> 8 | Z40: =IF(Z39="","",VLOOKUP(Z39,'【記載例】シフト記号表（勤務時間帯）'!$C$6:$L$47,10,FALSE)) -> 8 | AA40: =IF(AA39="","",VLOOKUP(AA39,'【記載例】シフト記号表（勤務時間帯）'!$C$6:$L$47,10,FALSE)) -> 8 | AB40: =IF(AB39="","",VLOOKUP(AB39,'【記載例】シフト記号表（勤務時間帯）'!$C$6:$L$47,10,FALSE)) -> 8 | AC40: =IF(AC39="","",VLOOKUP(AC39,'【記載例】シフト記号表（勤務時間帯）'!$C$6:$L$47,10,FALSE)) | AD40: =IF(AD39="","",VLOOKUP(AD39,'【記載例】シフト記号表（勤務時間帯）'!$C$6:$L$47,10,FALSE)) -> 8 | ... BA40: =IF(BA39="","",VLOOKUP(BA39,'【記載例】シフト記号表（勤務時間帯）'!$C$6:$L$47,10,FALSE)) | BB40: =IF($BE$3="４週",SUM(W40:AX40),IF($BE$3="暦月",SUM(W40:BA40),"")) -> 160 | BD40: =IF($BE$3="４週",BB40/4,IF($BE$3="暦月",(BB40/($BE$8/7)),"")) -> 40
B41: =B39+1 -> 13 | C41: 介護職員 | I41: A | K41: ー | O41: ○○ K子 | T41: シフト記号 | W41: a | X41: d | Z41: h | AA41: i | AC41: a | AD41: d | AE41: d | AF41: a | AH41: h | AI41: i | AK41: d | AM41: d | AN41: d | AP41: h | AQ41: i | AR41: d | AS41: a | AU41: d | AV41: d | AX41: h
F42: =C41 -> 介護職員 | H42: =I41 -> A | T42: 勤務時間数 | W42: =IF(W41="","",VLOOKUP(W41,'【記載例】シフト記号表（勤務時間帯）'!$C$6:$L$47,10,FALSE)) -> 8 | X42: =IF(X41="","",VLOOKUP(X41,'【記載例】シフト記号表（勤務時間帯）'!$C$6:$L$47,10,FALSE)) -> 8 | Y42: =IF(Y41="","",VLOOKUP(Y41,'【記載例】シフト記号表（勤務時間帯）'!$C$6:$L$47,10,FALSE)) | Z42: =IF(Z41="","",VLOOKUP(Z41,'【記載例】シフト記号表（勤務時間帯）'!$C$6:$L$47,10,FALSE)) -> 8 | AA42: =IF(AA41="","",VLOOKUP(AA41,'【記載例】シフト記号表（勤務時間帯）'!$C$6:$L$47,10,FALSE)) -> 8 | AB42: =IF(AB41="","",VLOOKUP(AB41,'【記載例】シフト記号表（勤務時間帯）'!$C$6:$L$47,10,FALSE)) | AC42: =IF(AC41="","",VLOOKUP(AC41,'【記載例】シフト記号表（勤務時間帯）'!$C$6:$L$47,10,FALSE)) -> 8 | AD42: =IF(AD41="","",VLOOKUP(AD41,'【記載例】シフト記号表（勤務時間帯）'!$C$6:$L$47,10,FALSE)) -> 8 | ... BA42: =IF(BA41="","",VLOOKUP(BA41,'【記載例】シフト記号表（勤務時間帯）'!$C$6:$L$47,10,FALSE)) | BB42: =IF($BE$3="４週",SUM(W42:AX42),IF($BE$3="暦月",SUM(W42:BA42),"")) -> 160 | BD42: =IF($BE$3="４週",BB42/4,IF($BE$3="暦月",(BB42/($BE$8/7)),"")) -> 40
B43: =B41+1 -> 14 | C43: 介護職員 | I43: C | K43: ー | O43: ○○ L太 | T43: シフト記号 | X43: a | Y43: d | AA43: d | AB43: d | AE43: a | AF43: d | AG43: d | AJ43: a | AM43: a | AN43: a | AO43: d | AQ43: d | AS43: d | AT43: d | AV43: d | AW43: a
F44: =C43 -> 介護職員 | H44: =I43 -> C | T44: 勤務時間数 | W44: =IF(W43="","",VLOOKUP(W43,'【記載例】シフト記号表（勤務時間帯）'!$C$6:$L$47,10,FALSE)) | X44: =IF(X43="","",VLOOKUP(X43,'【記載例】シフト記号表（勤務時間帯）'!$C$6:$L$47,10,FALSE)) -> 8 | Y44: =IF(Y43="","",VLOOKUP(Y43,'【記載例】シフト記号表（勤務時間帯）'!$C$6:$L$47,10,FALSE)) -> 8 | Z44: =IF(Z43="","",VLOOKUP(Z43,'【記載例】シフト記号表（勤務時間帯）'!$C$6:$L$47,10,FALSE)) | AA44: =IF(AA43="","",VLOOKUP(AA43,'【記載例】シフト記号表（勤務時間帯）'!$C$6:$L$47,10,FALSE)) -> 8 | AB44: =IF(AB43="","",VLOOKUP(AB43,'【記載例】シフト記号表（勤務時間帯）'!$C$6:$L$47,10,FALSE)) -> 8 | AC44: =IF(AC43="","",VLOOKUP(AC43,'【記載例】シフト記号表（勤務時間帯）'!$C$6:$L$47,10,FALSE)) | AD44: =IF(AD43="","",VLOOKUP(AD43,'【記載例】シフト記号表（勤務時間帯）'!$C$6:$L$47,10,FALSE)) | ... BA44: =IF(BA43="","",VLOOKUP(BA43,'【記載例】シフト記号表（勤務時間帯）'!$C$6:$L$47,10,FALSE)) | BB44: =IF($BE$3="４週",SUM(W44:AX44),IF($BE$3="暦月",SUM(W44:BA44),"")) -> 128 | BD44: =IF($BE$3="４週",BB44/4,IF($BE$3="暦月",(BB44/($BE$8/7)),"")) -> 32
...

Sheet 【記載例】シフト記号表（勤務時間帯）
B1: ≪要 提出≫
B2: ■シフト記号表（勤務時間帯）
B3: ※24時間表記 | F3: 休憩時間1時間は「1:00」、休憩時間45分は「00:45」と入力してください。
F4: 勤務時間 | N4: 自由記載欄
B5: No | C5: 記号 | F5: 始業時刻 | H5: 終業時刻 | J5: うち、休憩時間 | L5: 勤務時間
B6: 1 | C6: a | D6: =C6 -> a | E6: ： | F6: 0.29166667 | G6: ～ | H6: 0.66666667 | I6: （ | J6: 0.041666667 | K6: ） | L6: =IF(OR(F6="",H6=""),"",(H6+IF(F6>H6,1,0)-F6-J6)*24) -> 8
B7: 2 | C7: b | D7: =C7 -> b | E7: ： | F7: 0.375 | G7: ～ | H7: 0.75 | I7: （ | J7: 0.041666667 | K7: ） | L7: =IF(OR(F7="",H7=""),"",(H7+IF(F7>H7,1,0)-F7-J7)*24) -> 8
B8: 3 | C8: c | D8: =C8 -> c | E8: ： | F8: 0.41666667 | G8: ～ | H8: 0.79166667 | I8: （ | J8: 0.041666667 | K8: ） | L8: =IF(OR(F8="",H8=""),"",(H8+IF(F8>H8,1,0)-F8-J8)*24) -> 8
B9: 4 | C9: d | D9: =C9 -> d | E9: ： | F9: 0.5 | G9: ～ | H9: 0.875 | I9: （ | J9: 0.041666667 | K9: ） | L9: =IF(OR(F9="",H9=""),"",(H9+IF(F9>H9,1,0)-F9-J9)*24) -> 8
B10: 5 | C10: e | D10: =C10 -> e | E10: ： | F10: 0.375 | G10: ～ | H10: 0.54166667 | I10: （ | J10: 0 | K10: ） | L10: =IF(OR(F10="",H10=""),"",(H10+IF(F10>H10,1,0)-F10-J10)*24) -> 4
B11: 6 | C11: f | D11: =C11 -> f | E11: ： | F11: 0.54166667 | G11: ～ | H11: 0.75 | I11: （ | J11: 0.041666667 | K11: ） | L11: =IF(OR(F11="",H11=""),"",(H11+IF(F11>H11,1,0)-F11-J11)*24) -> 4
B12: 7 | C12: g | D12: =C12 -> g | E12: ： | F12: 0.58333333 | G12: ～ | H12: 0.83333333 | I12: （ | J12: 0 | K12: ） | L12: =IF(OR(F12="",H12=""),"",(H12+IF(F12>H12,1,0)-F12-J12)*24) -> 6
B13: 8 | C13: h | D13: =C13 -> h | E13: ： | F13: 0.66666667 | G13: ～ | H13: 1 | I13: （ | J13: 0 | K13: ） | L13: =IF(OR(F13="",H13=""),"",(H13+IF(F13>H13,1,0)-F13-J13)*24) -> 8 | N13: （夜勤）16:00～翌9:00勤務
B14: 9 | C14: i | D14: =C14 -> i | E14: ： | F14: 0 | G14: ～ | H14: 0.375 | I14: （ | J14: 0.041666667 | K14: ） | L14: =IF(OR(F14="",H14=""),"",(H14+IF(F14>H14,1,0)-F14-J14)*24) -> 8 | N14: （夜勤）16:00～翌9:00勤務
B15: 10 | C15: j | D15: =C15 -> j | E15: ： | G15: ～ | I15: （ | J15: 0 | K15: ） | L15: =IF(OR(F15="",H15=""),"",(H15+IF(F15>H15,1,0)-F15-J15)*24)
B16: 11 | C16: k | D16: =C16 -> k | E16: ： | G16: ～ | I16: （ | J16: 0 | K16: ） | L16: =IF(OR(F16="",H16=""),"",(H16+IF(F16>H16,1,0)-F16-J16)*24)
B17: 12 | C17: l | D17: =C17 -> l | E17: ： | G17: ～ | I17: （ | J17: 0 | K17: ） | L17: =IF(OR(F17="",H17=""),"",(H17+IF(F17>H17,1,0)-F17-J17)*24)
B18: 13 | C18: m | D18: =C18 -> m | E18: ： | G18: ～ | I18: （ | J18: 0 | K18: ） | L18: =IF(OR(F18="",H18=""),"",(H18+IF(F18>H18,1,0)-F18-J18)*24)
B19: 14 | C19: n | D19: =C19 -> n | E19: ： | G19: ～ | I19: （ | J19: 0 | K19: ） | L19: =IF(OR(F19="",H19=""),"",(H19+IF(F19>H19,1,0)-F19-J19)*24)
B20: 15 | C20: o | D20: =C20 -> o | E20: ： | G20: ～ | I20: （ | J20: 0 | K20: ） | L20: =IF(OR(F20="",H20=""),"",(H20+IF(F20>H20,1,0)-F20-J20)*24)
B21: 16 | C21: p | D21: =C21 -> p | E21: ： | G21: ～ | I21: （ | J21: 0 | K21: ） | L21: =IF(OR(F21="",H21=""),"",(H21+IF(F21>H21,1,0)-F21-J21)*24)
B22: 17 | C22: q | D22: =C22 -> q | E22: ： | G22: ～ | I22: （ | J22: 0 | K22: ） | L22: =IF(OR(F22="",H22=""),"",(H22+IF(F22>H22,1,0)-F22-J22)*24)
B23: 18 | C23: r | D23: =C23 -> r | E23: ： | G23: ～ | I23: （ | K23: ） | L23: 1
B24: 19 | C24: s | D24: =C24 -> s | E24: ： | G24: ～ | I24: （ | K24: ） | L24: 2
B25: 20 | C25: t | D25: =C25 -> t | E25: ： | G25: ～ | I25: （ | K25: ） | L25: 3
B26: 21 | C26: u | D26: =C26 -> u | E26: ： | G26: ～ | I26: （ | K26: ） | L26: 4
B27: 22 | C27: v | D27: =C27 -> v | E27: ： | G27: ～ | I27: （ | K27: ） | L27: 5
B28: 23 | C28: w | D28: =C28 -> w | E28: ： | G28: ～ | I28: （ | K28: ） | L28: 6
B29: 24 | C29: x | D29: =C29 -> x | E29: ： | G29: ～ | I29: （ | K29: ） | L29: 7
B30: 25 | C30: y | D30: =C30 -> y | E30: ： | G30: ～ | I30: （ | K30: ） | L30: 8
B31: 26 | C31: z | D31: =C31 -> z | E31: ： | G31: ～ | I31: （ | K31: ） | L31: 1
B32: 27 | C32: x | D32: =C32 -> x | E32: ： | G32: ～ | I32: （ | K32: ） | L32: 2
B33: 28 | C33: aa | D33: =C33 -> aa | E33: ： | G33: ～ | I33: （ | K33: ） | L33: 3
B34: 29 | C34: ab | D34: =C34 -> ab | E34: ： | G34: ～ | I34: （ | K34: ） | L34: 4
... B38: 33 | C38: af | D38: =C38 -> af | E38: ： | G38: ～ | I38: （ | K38: ） | L38: 8
B39: 34 | C39: ag | E39: ： | F39: 0.29166667 | G39: ～ | H39: 0.39583333 | I39: （ | J39: 0 | K39: ） | L39: =IF(OR(F39="",H39=""),"",(H39+IF(F39>H39,1,0)-F39-J39)*24) -> 2.5
C40: - | E40: ： | F40: 0.6875 | G40: ～ | H40: 0.83333333 | I40: （ | J40: 0 | K40: ） | L40: =IF(OR(F40="",H40=""),"",(H40+IF(F40>H40,1,0)-F40-J40)*24) -> 3.5
C41: - | D41: =C39 -> ag | E41: ： | F41: - | G41: ～ | H41: - | I41: （ | J41: - | K41: ） | L41: =IF(OR(L39="",L40=""),"",L39+L40) -> 6 | N41: 1日に2回勤務する場合
C42: ah | E42: ： | G42: ～ | I42: （ | J42: 0 | K42: ） | L42: =IF(OR(F42="",H42=""),"",(H42+IF(F42>H42,1,0)-F42-J42)*24)
B43: 35 | C43: - | E43: ： | G43: ～ | I43: （ | J43: 0 | K43: ） | L43: =IF(OR(F43="",H43=""),"",(H43+IF(F43>H43,1,0)-F43-J43)*24)
...

Sheet ④利用者の状況
B2: 利用者の状況〔特定施設入居者生活介護〕
C6: ① 前年度(毎年4月1日に始まり翌年3月31日をもって終わる年度。以下同じ。)の平均利用者数（計画数） 人
C9: ② 前年度の各月別人員数(計画数） 人
B11: 区 分 | D11: 令和 年 | E11: 令和 年 | F11: 令和 年 | G11: 令和 年 | H11: 令和 年 | I11: 令和 年 | J11: 令和 年 | K11: 令和 年 | L11: 令和 年 | M11: 令和 年 | N11: 令和 年 | O11: 令和 年 | P11: 前年度 平 均
D12: ４月 | E12: ５月 | F12: ６月 | G12: ７月 | H12: ８月 | I12: ９月 | J12: １０月 | K12: １１月 | L12: １２月 | M12: １月 | N12: ２月 | O12: ３月
B13: 利用者数 | D13: （） | E13: （） | F13: （） | G13: （） | H13: （） | I13: （） | J13: （） | K13: （） | L13: （） | M13: （） | N13: （） | O13: （）
C15: （注）１ 上記表は、原則として運営指導時の前年度について記入すること。
C16: ２ 利用者数（計画数）は，介護報酬請求に係る実利用者数（計画数）を記入すること。

Sheet ⑤身体拘束者名簿
A2: 行動障害のある利用者および身体拘束者名簿
D4: 事業所（施設）名
B6: № | C6: 氏 名 | D6: 介護度 | E6: 居室番号 | F6: 拘束等の内容（下記より）
B20: ※ 現況について記載すること。記入しきれない場合はコピー願います。
B21: ※ 「行動障害」とは、認知症に伴う徘徊、異食、暴言、暴行、自傷等をいう。
B22: ※ 「身体拘束」とは、具体的には下記①～⑪の行為
B23: 1 徘徊しないように、車いすやベッドに体幹や四肢をひも等で縛る
B24: 2 転落しないように、ベッドに体幹や四肢をひも等で縛る
B25: 3 自分で降りられないように、ベッドを柵（サイドレール）で囲む
B26: 4 点滴・経管栄養等のチューブを抜かないように四肢をひも等で縛る
B27: 5 または皮膚をかきむしらないように、手指の機能を制限するミトン型の 手袋等をつける
B28: 6 車いすや椅子からずり落ちたり、立ち上がったりしないように、 Ｙ字型拘束帯や腰ベルト、車いすテーブルをつける
B29: 7 立ち上がる能力のある人の立ち上がりを妨げるようないすを使用する
B30: 8 脱衣やおむつはずしを制限するために、介護衣（つなぎ服）を着せる
B31: 9 他人への迷惑行為を防ぐために、ベッドなどに体幹や四肢をひも等で縛る
... B33: 11行動を落ち着かせるために、向精神薬を過剰に服用させる
